BEGIN:VCALENDAR
VERSION:2.0
PRODID:-//ChamberMaster//Event Calendar 2.0//EN
METHOD:PUBLISH
X-PUBLISHED-TTL:P3D
REFRESH-INTERVAL:P3D
CALSCALE:GREGORIAN
BEGIN:VEVENT
DTSTART:20160101T160000Z
DTEND:20160102T000000Z
X-MICROSOFT-CDO-ALLDAYEVENT:FALSE
SUMMARY:Celebrate at The Eagles Ship
DESCRIPTION:Eagles Ship\n\nNew Year's Day \n\nFriday Jan 1 2016\n\nBar Opens at 10am- Club closes at 6pm\n\n\n\nPancake/Sausage Breakfast \n\n8am-11am Everyone Welcome! \n\nFREE to paid members & family:\n\n$4 for non-members\n\n\n\nAuxiliary Lunch\n\n11am-1pm*Upstairs\n\n\n\nDance To \n\nNight Owls: 10am-2pm * Downstairs\n\nThunderridge 1:30-5:30pm *Upstairs\n\n\n\nBar Bingo:\n\n3-5 pm Downstairs
X-ALT-DESC;FMTTYPE=text/html:<strong>&nbsp\;Eagles Ship<br />\n<em>New Year&#39\;s Day&nbsp\;</em><br />\nFriday Jan 1 2016<br />\nBar Opens at 10am- Club closes at 6pm</strong><br />\n<br />\n<em><strong>Pancake/Sausage Breakfast&nbsp\;</strong></em><br />\n8am-11am Everyone Welcome!&nbsp\;<br />\nFREE to paid members &amp\; family:<br />\n$4 for non-members<br />\n<br />\nAuxiliary Lunch<br />\n11am-1pm*Upstairs<br />\n<br />\n<em><strong>Dance To&nbsp\;</strong></em><br />\n<strong>Night Owls: </strong>10am-2pm&nbsp\;* Downstairs<br />\n<strong>Thunderridge</strong> 1:30-5:30pm *Upstairs<br />\n<br />\n<em><strong>Bar Bingo:</strong></em><br />\n3-5 pm&nbsp\;Downstairs
LOCATION:Eagles Ship 120 S Peck St.
UID:e.314.27972
SEQUENCE:3
DTSTAMP:20260425T232802Z
URL:https://business.fergusfalls.com/events/details/celebrate-at-the-eagles-ship-01-01-2016-27972
END:VEVENT

END:VCALENDAR
