BEGIN:VCALENDAR
VERSION:2.0
PRODID:-//ChamberMaster//Event Calendar 2.0//EN
METHOD:PUBLISH
X-PUBLISHED-TTL:P3D
REFRESH-INTERVAL:P3D
CALSCALE:GREGORIAN
BEGIN:VEVENT
DTSTART:20200518T140000Z
DTEND:20200518T220000Z
X-MICROSOFT-CDO-ALLDAYEVENT:FALSE
SUMMARY:Celebrating 100 Years of Conservation
DESCRIPTION:The Fergus Falls Fish & Game Club was founded in 1920\, making this year their 100th Anniversary. They partnered with the Otter Tail County Historical Society to create an exhibit that highlights the clubs success in several project areas. Otter Tail County has a rich history and is uniquely situated among abundant natural resources. Conservation organizations have been able to form unique partnerships and work together to create mutually beneficial results. This exhibit highlights the history of the Club\, the unique the partnerships it has with other organizations\, the many projects the Club has and continues to maintain as well as the properties it now maintains. The Club's history is a direct reflection on the history of Otter Tail County and its unique natural resources. The exhibit has something for everyone! See it and almost 20\,000 additional square feet of exhibits.
X-ALT-DESC;FMTTYPE=text/html:The Fergus Falls Fish &amp\; Game Club was founded in 1920\, making this year their 100th Anniversary. They partnered with the Otter Tail County Historical Society to create an exhibit that highlights the clubs success in several project areas. Otter Tail County has a rich history and is uniquely situated among abundant natural resources. Conservation organizations have been able to form unique partnerships and work together to create mutually beneficial results. This exhibit highlights the history of the Club\, the unique the partnerships it has with other organizations\, the many projects the Club has and continues to maintain as well as the properties it now maintains. The Club&#39\;s history is a direct reflection on the history of Otter Tail County and its unique natural resources. The exhibit has something for everyone! See it and almost 20\,000 additional square feet of exhibits.
LOCATION:Otter Tail County Historical Society 1110 Lincoln Ave West Fergus Falls\, MN 56537
UID:e.314.56414
SEQUENCE:3
DTSTAMP:20260422T095632Z
URL:https://business.fergusfalls.com/events/details/celebrating-100-years-of-conservation-05-18-2020-56414
END:VEVENT

END:VCALENDAR
