BEGIN:VCALENDAR
VERSION:2.0
PRODID:-//ChamberMaster//Event Calendar 2.0//EN
METHOD:PUBLISH
X-PUBLISHED-TTL:P3D
REFRESH-INTERVAL:P3D
CALSCALE:GREGORIAN
BEGIN:VEVENT
DTSTART:20210603T163000Z
DTEND:20210603T180000Z
X-MICROSOFT-CDO-ALLDAYEVENT:FALSE
SUMMARY:Celebrating Memories for Kids
DESCRIPTION:In this class\, kids ages 8-16 will have an opportunity to learn about what grief is and how honoring our memories of someone who has died can help them to live on in our hearts. Kids will learn to celebrate memories while creating their very own memory box. This virtual class is free and open to the public. Registration is required by May 24\, so arrangements for class supply pick-up can be made. In some cases\, the packets/lists may be mailed.
X-ALT-DESC;FMTTYPE=text/html:In this class\, kids ages 8-16 will have an opportunity to learn about what grief is and how honoring our memories of someone who has died can help them to live on in our hearts. Kids will learn to celebrate memories while creating their very own memory box. This virtual class is free and open to the public. Registration is required by May 24\, so arrangements for class supply pick-up can be made. In some cases\, the packets/lists may be mailed.
LOCATION:Online/Virtual
UID:e.314.61883
SEQUENCE:3
DTSTAMP:20260421T123508Z
URL:https://business.fergusfalls.com/events/details/celebrating-memories-for-kids-61883
END:VEVENT

END:VCALENDAR
