BEGIN:VCALENDAR
VERSION:2.0
PRODID:-//ChamberMaster//Event Calendar 2.0//EN
METHOD:PUBLISH
X-PUBLISHED-TTL:P3D
REFRESH-INTERVAL:P3D
CALSCALE:GREGORIAN
BEGIN:VEVENT
DTSTART:20160110T190000Z
DTEND:20160110T210000Z
X-MICROSOFT-CDO-ALLDAYEVENT:FALSE
SUMMARY:Celebration Open House Lake Region Healthcare New Clinic
DESCRIPTION:A Celebration Open House\n\nLake Region Healthcare Main Clinic\n\nSunday\, January 10 1-3pm\n\nOur new Main Clinic is now open and it's time to celebrate this milestone.\n\nJoin us for this special event to see first-hand how new patient-centered processes and stat-of-the-art technology come together to create the healthcare experience our community deserves.  Take a tour\, enjoy refreshments and attend a short program at 2 p.m.\n\n\n\nThis is a project we can all feel good about. We built with you in mind.
X-ALT-DESC;FMTTYPE=text/html:<span style="color: rgb(0\, 0\, 205)\;"><strong><span style="font-size: 16px\;"><span style="font-size: 18px\;">A Celebration Open House<br />\n<span style="font-size: 16px\;">Lake Region Healthcare Main Clinic</span></span><br />\nSunday\, January 10 1-3pm</span></strong></span><br />\nOur new Main Clinic is now open and it&#39\;s time to celebrate this milestone.<br />\nJoin us for this special event to see first-hand how new patient-centered processes and stat-of-the-art technology come together to create the healthcare experience our community deserves.&nbsp\; Take a tour\, enjoy refreshments and attend a short program at 2 p.m.<br />\n<br />\nThis is a project we can all feel good about. We built with you in mind.
LOCATION:Lake Region Healthcare Main Clinic 111. W. Vernon Ave Fergus Falls\, MN 56537
UID:e.314.27975
SEQUENCE:3
DTSTAMP:20260425T234652Z
URL:https://business.fergusfalls.com/events/details/celebration-open-house-lake-region-healthcare-new-clinic-01-10-2016-27975
END:VEVENT

END:VCALENDAR
