BEGIN:VCALENDAR
VERSION:2.0
PRODID:-//ChamberMaster//Event Calendar 2.0//EN
METHOD:PUBLISH
X-PUBLISHED-TTL:P3D
REFRESH-INTERVAL:P3D
CALSCALE:GREGORIAN
BEGIN:VEVENT
DTSTART:20160420T003000Z
DTEND:20160420T040000Z
X-MICROSOFT-CDO-ALLDAYEVENT:FALSE
SUMMARY:Celtic Music Jam @ The Spot
DESCRIPTION:Every 3rd Thursday is Celtic Music Jam at The Spot starting at 7:30pm. Local & regional musicians arrive in the back room to play old tunes together & further their craft.
X-ALT-DESC;FMTTYPE=text/html:<div>Every 3rd Thursday is Celtic Music Jam at The Spot starting at 7:30pm. Local &amp\;&nbsp\;regional musicians arrive in the back room to play old tunes together &amp\; further their craft.</div>\n
LOCATION:The Spot 220 W. Lincoln Ave.
UID:e.314.4226
SEQUENCE:3
DTSTAMP:20260425T163033Z
URL:https://business.fergusfalls.com/events/details/celtic-music-jam-the-spot-04-19-2016-4226
END:VEVENT

END:VCALENDAR
