BEGIN:VCALENDAR
VERSION:2.0
PRODID:-//ChamberMaster//Event Calendar 2.0//EN
METHOD:PUBLISH
X-PUBLISHED-TTL:P3D
REFRESH-INTERVAL:P3D
CALSCALE:GREGORIAN
BEGIN:VEVENT
DTSTART:20160412T133000Z
DTEND:20160413T220000Z
X-MICROSOFT-CDO-ALLDAYEVENT:FALSE
SUMMARY:Certificate In Leadership
DESCRIPTION:The Minnesota Association for Volunteer Administration\n\n\n\n(MAVA) and Lakes Country Service Cooperative present .\n\n\n\nCertificate in Volunteer Leadership\n\n\n\nOriginal curriculum by Betty Stallings\, adapted by MAVA\n\n\n\n  Earn your Certificate in Volunteer Leadership by completing an\n\n8-topic training series in two days.\n\n\n\n  Gain a way to demonstrate your expertise and professionalism \n\nto employers\, peers and the community.\n\n\n\n  If you are new to the field or are looking for rejuvenation in your career\, please join us!\n\n\n\nRegister today at www.MAVAnetwork.org/event-2140868    \n\n\n\nTuesday\, April 12th\n\n\n\n  Capturing Volunteer Motivation and Conducting Effective Interviews\n\n\n\n  Designing Volunteer Positions\n\n\n\n  Managing Risk\n\n\n\n  Recruiting Volunteers\n\n\n\nWednesday\, April 13th\n\n\n\n  Supervising Volunteers\n\n\n\n  Positioning Your Volunteer Program for Success\n\n\n\n  Singing Your Praises Measuring Your Impact\n\n\n\n  Recognizing and Retaining Volunteers\n\n\n\nCost:  \n\n\n\nBoth days\, full Certificate series (8 sessions):   $100 MAVA members*    $150 non-members\n\n\n\nScholarships available: Contact MAVA at 651-255-0464 or e-mail swessling@mavanetwork.org.\n\n\n\n* Join MAVA today and register at the member rate!\n\n\n\nFor any questions\, contact the MAVA office at (651) 255-0464\, or visit www.MAVAnetwork.org.\n\n\n\nDirections will be provided with registration confirmation.\n\n\n\nApril 12th & 13th\, 2016 8:30 a.m. to 5:00 p.m.\n\n\n\nLakes Country Service Cooperative \n\n\n\n1001 E. Mt. Faith Ave.\n\n\n\nFergus Falls\, MN 56537\n\n\n\nRegistration - Volunteer Impact Leadership Training Series \n\n\n\n    Fergus Falls\n\n\n\nPlease complete one form for each participant.\n\n\n\nI will attend:\n\n\n\n____ April 12th\, 2016   8:30 a.m. to 5:00 p.m. ($65/$100)\n\n\n\n____ April 13th\, 2016   8:30 a.m. to 5:00 p.m. ($65/$100)\n\n\n\n____ Both sessions ($100/$150)\n\n\n\n____ Would like to join MAVA   see membership rates below\n\n\n\nName: __________________________________________________________________________\n\n\n\nJob title: _________________________________________________________________________\n\n\n\nOrganization: _____________________________________________________________________\n\n\n\nAddress: _________________________________________________________________________\n\n\n\nCity:  __________________________________________  State:  ______  Zip Code:  ____________\n\n\n\nE-Mail Address: ___________________________________________________Phone___________\n\n\n\nI would like a vegetarian lunch    ___ yes     ___ no\n\n\n\nI am a: MAVA Member___      Non-member ___\n\n\n\n___ YES!  I would like to become a MAVA Member and attend at the member rate.\n\n\n\n__ $72   Individual Membership\n\n\n\n__ $48   Individual (Part-time\, Retired\, or Student) \n\n\n\n__ $180    Group Membership (1 to 3 staff)\n\n\n\n__ $252    Group Membership (4 to 7 staff)\n\n\n\nIf you would like to learn more about the benefits of a MAVA membership\, visit www.mavanetwork.org. \n\n\n\nPayment Information\n\n\n\nTotal Amount Due: _____             ___I would like to pay by credit card               ___Check Enclosed\n\n\n\nName on card: ______________________________________ Expiration Date:  ________\n\n\n\nCard Number: ____________________________________________ CVV: _________\n\n\n\nBilling Address: _____________________________________________________________\n\n\n\nRegistration Deadline: Ten days prior to the workshop.  Sign up early as space may fill.\n\n\n\nMail registrations to MAVA\, 1800 White Bear Ave. North\, Maplewood\, MN 55109
X-ALT-DESC;FMTTYPE=text/html:<strong>The Minnesota Association for Volunteer Administration</strong><br />\n<br />\n<strong>(MAVA) and Lakes Country Service Cooperative</strong> present&hellip\;.<br />\n<br />\n<strong>Certificate in Volunteer Leadership</strong><br />\n<br />\nOriginal curriculum by Betty Stallings\, adapted by MAVA<br />\n<br />\n&bull\; <em><strong>Earn your Certificate in Volunteer Leadership</strong></em> by completing an<br />\n8-topic training series in <strong>two days</strong>.<br />\n<br />\n&bull\; Gain a way to demonstrate your expertise and professionalism&nbsp\;<br />\nto employers\, peers and the community.<br />\n<br />\n&bull\; If you are new to the field or are looking for rejuvenation in your career\, please join us!<br />\n<br />\nRegister today at <a href="http://www.MAVAnetwork.org/event-2140868">www.MAVAnetwork.org/event-2140868&nbsp\;</a>&nbsp\;&nbsp\;&nbsp\;<br />\n<br />\n<strong>Tuesday\, April 12th</strong><br />\n<br />\n&bull\; Capturing Volunteer Motivation and Conducting Effective Interviews<br />\n<br />\n&bull\; Designing Volunteer Positions<br />\n<br />\n&bull\; Managing Risk<br />\n<br />\n&bull\; Recruiting Volunteers<br />\n<br />\n<strong>Wednesday\, April 13th</strong><br />\n<br />\n&bull\; Supervising Volunteers<br />\n<br />\n&bull\; Positioning Your Volunteer Program for Success<br />\n<br />\n&bull\; Singing Your Praises&hellip\;Measuring Your Impact<br />\n<br />\n&bull\; Recognizing and Retaining Volunteers<br />\n<br />\n<strong>Cost:&nbsp\;&nbsp\;</strong><br />\n<br />\nBoth days\, full Certificate series (8 sessions):&nbsp\;&nbsp\; $100 MAVA members*&nbsp\;&nbsp\;&nbsp\; $150 non-members<br />\n<br />\n<strong>Scholarships available: </strong>Contact MAVA at 651-255-0464 or e-mail swessling@mavanetwork.org.<br />\n<br />\n* Join MAVA today and register at the member rate!<br />\n<br />\n<strong>For any questions</strong>\, contact the MAVA office at (651) 255-0464\, or visit www.MAVAnetwork.org.<br />\n<br />\n<strong>Directions </strong>will be provided with registration confirmation.<br />\n<br />\n<strong>April 12th &amp\; 13th\, 2016 8:30 a.m. to 5:00 p.m.<br />\n<br />\nLakes Country Service Cooperative&nbsp\;<br />\n<br />\n1001 E. Mt. Faith Ave.<br />\n<br />\nFergus Falls\, MN 56537</strong><br />\n<br />\nRegistration - Volunteer Impact Leadership Training Series&nbsp\;<br />\n<br />\n&nbsp\;&nbsp\;&nbsp\; Fergus Falls<br />\n<br />\nPlease complete one form for each participant.<br />\n<br />\nI will attend:<br />\n<br />\n____ April 12th\, 2016 &ndash\; 8:30 a.m. to 5:00 p.m. ($65/$100)<br />\n<br />\n____ April 13th\, 2016 &ndash\; 8:30 a.m. to 5:00 p.m. ($65/$100)<br />\n<br />\n____ Both sessions ($100/$150)<br />\n<br />\n____ Would like to join MAVA &ndash\; see membership rates below<br />\n<br />\nName: __________________________________________________________________________<br />\n<br />\nJob title: _________________________________________________________________________<br />\n<br />\nOrganization: _____________________________________________________________________<br />\n<br />\nAddress: _________________________________________________________________________<br />\n<br />\nCity:&nbsp\; __________________________________________&nbsp\; State:&nbsp\; ______&nbsp\; Zip Code:&nbsp\; ____________<br />\n<br />\nE-Mail Address: ___________________________________________________Phone___________<br />\n<br />\nI would like a vegetarian lunch&nbsp\;&nbsp\;&nbsp\; ___ yes&nbsp\;&nbsp\;&nbsp\;&nbsp\; ___ no<br />\n<br />\nI am a: MAVA Member___&nbsp\;&nbsp\;&nbsp\;&nbsp\;&nbsp\; Non-member ___<br />\n<br />\n___ YES!&nbsp\; I would like to become a MAVA Member and attend at the member rate.<br />\n<br />\n__ $72&nbsp\;&nbsp\; Individual Membership<br />\n<br />\n__ $48&nbsp\;&nbsp\; Individual (Part-time\, Retired\, or Student)&nbsp\;<br />\n<br />\n__ $180&nbsp\;&nbsp\;&nbsp\; Group Membership (1 to 3 staff)<br />\n<br />\n__ $252&nbsp\;&nbsp\;&nbsp\; Group Membership (4 to 7 staff)<br />\n<br />\nIf you would like to learn more about the benefits of a MAVA membership\, visit www.mavanetwork.org.&nbsp\;<br />\n<br />\nPayment Information<br />\n<br />\nTotal Amount Due: _____&nbsp\;&nbsp\;&nbsp\;&nbsp\;&nbsp\;&nbsp\;&nbsp\;&nbsp\;&nbsp\;&nbsp\;&nbsp\;&nbsp\; ___I would like to pay by credit card&nbsp\;&nbsp\;&nbsp\;&nbsp\;&nbsp\;&nbsp\;&nbsp\;&nbsp\;&nbsp\;&nbsp\;&nbsp\;&nbsp\;&nbsp\;&nbsp\; ___Check Enclosed<br />\n<br />\nName on card: ______________________________________ Expiration Date:&nbsp\; ________<br />\n<br />\nCard Number: ____________________________________________ CVV: _________<br />\n<br />\nBilling Address: _____________________________________________________________<br />\n<br />\n<strong>Registration Deadline</strong>: Ten days prior to the workshop.&nbsp\; Sign up early as space may fill.<br />\n<br />\nMail registrations to MAVA\, 1800 White Bear Ave. North\, Maplewood\, MN 55109
LOCATION:Lakes Country Service Cooperative 1001 E. Mt. Faith Ave. Fergus Falls\, MN 56537
UID:e.314.32376
SEQUENCE:3
DTSTAMP:20260425T162841Z
URL:https://business.fergusfalls.com/events/details/certificate-in-leadership-04-12-2016-32376
END:VEVENT

END:VCALENDAR
