BEGIN:VCALENDAR
VERSION:2.0
PRODID:-//ChamberMaster//Event Calendar 2.0//EN
METHOD:PUBLISH
X-PUBLISHED-TTL:P3D
REFRESH-INTERVAL:P3D
CALSCALE:GREGORIAN
BEGIN:VEVENT
DTSTART:20151120T000000Z
DTEND:20151120T020000Z
X-MICROSOFT-CDO-ALLDAYEVENT:FALSE
SUMMARY:Chalk /Furniture Paint Class
DESCRIPTION:MiMi Rae's & AddyGrace Host a Chalk/Furniture Paint Class!\n\nYou Asked for Another One .....\n\nPaint Paint Paint!!!\n\n\n\nBring with You -\n\nA Small Project\n\nApron or Wear Painting Clothes\n\n\n\nWe Will Provide -\n\nPaint\n\nWax\n\nPoly\n\nBrushes\n\n\n\nOnly $35 to the First 8 People to Pay in Full @ Store!!
X-ALT-DESC;FMTTYPE=text/html:<strong><span style="color: rgb(0\, 0\, 255)\;"><span style="font-size: 14px\;">MiMi Rae&#39\;s &amp\; AddyGrace Host a Chalk/Furniture Paint Class!</span></span></strong><br />\n<span class="fsl"><strong>You Asked for Another One .....<br />\nPaint Paint Paint!!!</strong><br />\n<br />\n<strong>Bring with You -<br />\nA Small Project<br />\nApron or Wear Painting Clothes</strong><br />\n<br />\n<strong>We Will Provide -<br />\nPaint<br />\nWax<br />\nPoly<br />\nBrushes</strong><br />\n<br />\n<strong>Only $35 to the First 8 People to Pay in Full @ Store!!</strong></span>
LOCATION:MiMi Rae's & AddyGrace 221 W Lincoln Ave Downtown Fergus Falls
UID:e.314.27143
SEQUENCE:3
DTSTAMP:20260426T025458Z
URL:https://business.fergusfalls.com/events/details/chalk-furniture-paint-class-11-19-2015-27143
END:VEVENT

END:VCALENDAR
