BEGIN:VCALENDAR
VERSION:2.0
PRODID:-//ChamberMaster//Event Calendar 2.0//EN
METHOD:PUBLISH
X-PUBLISHED-TTL:P3D
REFRESH-INTERVAL:P3D
CALSCALE:GREGORIAN
BEGIN:VEVENT
DTSTART:20171219T160000Z
DTEND:20171219T170000Z
X-MICROSOFT-CDO-ALLDAYEVENT:FALSE
SUMMARY:Chamber Advocacy -- Meeting with Auto Dealers
DESCRIPTION:Meeting scheduled with Fergus Falls auto dealers and state legislators to review franchise legislation.
X-ALT-DESC;FMTTYPE=text/html:Meeting scheduled with Fergus Falls auto dealers and state legislators to review franchise legislation.
LOCATION:Fergus Falls Area Chamber of Commerce Board Meeting room - lower level 202 S. Court St. Fergus Falls\, MN 56537
UID:e.314.43561
SEQUENCE:3
DTSTAMP:20260424T074830Z
URL:https://business.fergusfalls.com/events/details/chamber-advocacy-meeting-with-auto-dealers-43561
END:VEVENT

END:VCALENDAR
