BEGIN:VCALENDAR
VERSION:2.0
PRODID:-//ChamberMaster//Event Calendar 2.0//EN
METHOD:PUBLISH
X-PUBLISHED-TTL:P3D
REFRESH-INTERVAL:P3D
CALSCALE:GREGORIAN
BEGIN:VEVENT
DTSTART:20200108T160000Z
DTEND:20200108T180000Z
X-MICROSOFT-CDO-ALLDAYEVENT:FALSE
SUMMARY:Chamber Ambassador Visits
DESCRIPTION:10:00 - A Wife Like Me - New Member \n\n        (Chamber Office) 202 S Court St.\n\n10:30 - Thrivent Financial - Kurt Nygaard\n\n        1401 College Way\n\n11:00 - Liza Jaynes Home Decor & More - New Member\n\n        120 East Junius Ave
X-ALT-DESC;FMTTYPE=text/html:<strong>10:00 - A Wife Like Me - New Member&nbsp\;</strong><br />\n&nbsp\;&nbsp\;&nbsp\;&nbsp\;&nbsp\;&nbsp\;&nbsp\;&nbsp\;(Chamber Office) 202 S Court St.<br />\n<strong>10:30 - Thrivent Financial - Kurt Nygaard</strong><br />\n&nbsp\;&nbsp\;&nbsp\;&nbsp\;&nbsp\;&nbsp\;&nbsp\;&nbsp\;1401 College Way<br />\n<strong>11:00 - Liza Jaynes Home Decor &amp\; More -&nbsp\;New&nbsp\;Member</strong><br />\n&nbsp\;&nbsp\;&nbsp\;&nbsp\;&nbsp\;&nbsp\;&nbsp\;&nbsp\;120 East Junius Ave<br />\n&nbsp\;
LOCATION:10:00 - A Wife Like Me - New Member (Chamber Office) 202 S Court St. 10:30 - Thrivent Financial - Kurt Nygaard 1401 College Way 11:00 - Liza Jaynes Home Decor & More - New Member 120 East Junius Ave 11:30 - McDonalds - New Member 2085 College Way
UID:e.314.12574
SEQUENCE:3
DTSTAMP:20260422T172116Z
URL:https://business.fergusfalls.com/events/details/chamber-ambassador-visits-01-08-2020-12574
END:VEVENT

END:VCALENDAR
