BEGIN:VCALENDAR
VERSION:2.0
PRODID:-//ChamberMaster//Event Calendar 2.0//EN
METHOD:PUBLISH
X-PUBLISHED-TTL:P3D
REFRESH-INTERVAL:P3D
CALSCALE:GREGORIAN
BEGIN:VEVENT
DTSTART:20190109T160000Z
DTEND:20190109T180000Z
X-MICROSOFT-CDO-ALLDAYEVENT:FALSE
SUMMARY:Chamber Ambassador Visits
DESCRIPTION:Chamber Ambassador Visits\n\n\n\n10:00 -  Fergus Falls Concert Association - New Member \n\n        Chamber Office 202 S Court St. \n\n10:30  - Lincoln Nutrition - New Member \n\n        122 E. Lincoln Ave.\n\n11:00 -  Spangler Real Estate - 20 Year Anniversary \n\n        215 W Washington Ave
X-ALT-DESC;FMTTYPE=text/html:<strong>Chamber Ambassador Visits<br />\n<br />\n10:00 -&nbsp\;&nbsp\;Fergus Falls Concert Association - New Member&nbsp\;</strong><br />\n&nbsp\; &nbsp\;&nbsp\;&nbsp\;&nbsp\;&nbsp\; Chamber Office 202 S Court St.&nbsp\;<br />\n<strong>10:30&nbsp\; - Lincoln Nutrition - New Member&nbsp\;</strong><br />\n&nbsp\;&nbsp\;&nbsp\;&nbsp\;&nbsp\;&nbsp\;&nbsp\;&nbsp\;122 E. Lincoln Ave.<br />\n<strong>11:00 -&nbsp\; Spangler Real Estate - 20 Year Anniversary </strong><br />\n&nbsp\;&nbsp\;&nbsp\;&nbsp\;&nbsp\;&nbsp\;&nbsp\;&nbsp\;215 W Washington Ave<br />\n<br />\n&nbsp\;
LOCATION:
UID:e.314.12562
SEQUENCE:3
DTSTAMP:20260423T105734Z
URL:https://business.fergusfalls.com/events/details/chamber-ambassador-visits-01-09-2019-12562
END:VEVENT

END:VCALENDAR
