BEGIN:VCALENDAR
VERSION:2.0
PRODID:-//ChamberMaster//Event Calendar 2.0//EN
METHOD:PUBLISH
X-PUBLISHED-TTL:P3D
REFRESH-INTERVAL:P3D
CALSCALE:GREGORIAN
BEGIN:VEVENT
DTSTART:20170111T160000Z
DTEND:20170111T180000Z
X-MICROSOFT-CDO-ALLDAYEVENT:FALSE
SUMMARY:Chamber Ambassador Visits
DESCRIPTION:Chamber Ambassador Visits\n\n10:00    James Wedgwood Comedy Ventriloquist - New Member \n\n            202 S. Court St - Chamber office\n\n10:30    Savvy Sun Travel- New Member & First Dollar\n\n            121 E. Lincoln Ave\n\n11:00    Lakes Concrete Plumbing - New Member & 1st Dollar\n\n            202 S Court St. - Chamber Office\n\n11:30    Mohagen Real Estate - 10 Year Anniversary\n\n            130 S Vine St
X-ALT-DESC;FMTTYPE=text/html:<strong>Chamber Ambassador Visits<br />\n10:00</strong>&nbsp\;&nbsp\;&nbsp\;&nbsp\;<strong>James Wedgwood Comedy Ventriloquist - New Member </strong><br />\n&nbsp\;&nbsp\;&nbsp\;&nbsp\;&nbsp\;&nbsp\;&nbsp\;&nbsp\;&nbsp\;&nbsp\;&nbsp\;&nbsp\;202 S. Court St - Chamber office<br />\n<strong>10:30</strong>&nbsp\;&nbsp\;&nbsp\;&nbsp\;<strong>Savvy Sun Travel- New Member &amp\; First Dollar</strong><br />\n&nbsp\;&nbsp\;&nbsp\;&nbsp\;&nbsp\;&nbsp\;&nbsp\;&nbsp\;&nbsp\;&nbsp\;&nbsp\;&nbsp\;121 E. Lincoln Ave<br />\n<strong>11:00</strong>&nbsp\;&nbsp\;&nbsp\;&nbsp\;<strong>Lakes Concrete Plumbing - New Member &amp\; 1st Dollar</strong><br />\n&nbsp\;&nbsp\;&nbsp\;&nbsp\;&nbsp\;&nbsp\;&nbsp\;&nbsp\;&nbsp\;&nbsp\;&nbsp\;&nbsp\;202 S Court St. - Chamber Office<br />\n<strong>11:30</strong>&nbsp\;&nbsp\;&nbsp\;&nbsp\;<strong>Mohagen Real Estate - 10 Year Anniversary</strong><br />\n&nbsp\;&nbsp\;&nbsp\;&nbsp\;&nbsp\;&nbsp\;&nbsp\;&nbsp\;&nbsp\;&nbsp\;&nbsp\;&nbsp\;130 S Vine St<br />\n&nbsp\;&nbsp\;&nbsp\;&nbsp\;&nbsp\;&nbsp\;&nbsp\;&nbsp\;&nbsp\;&nbsp\;&nbsp\;&nbsp\;<br />\n&nbsp\;
LOCATION:
UID:e.314.12538
SEQUENCE:3
DTSTAMP:20260425T003106Z
URL:https://business.fergusfalls.com/events/details/chamber-ambassador-visits-01-11-2017-12538
END:VEVENT

END:VCALENDAR
