BEGIN:VCALENDAR
VERSION:2.0
PRODID:-//ChamberMaster//Event Calendar 2.0//EN
METHOD:PUBLISH
X-PUBLISHED-TTL:P3D
REFRESH-INTERVAL:P3D
CALSCALE:GREGORIAN
BEGIN:VEVENT
DTSTART:20170208T160000Z
DTEND:20170208T180000Z
X-MICROSOFT-CDO-ALLDAYEVENT:FALSE
SUMMARY:Chamber Ambassador Visits
DESCRIPTION:Chamber Ambassador Visits\n\n10:00 Northwestern Mutual - Jesse Nelson\, New Member\n\n            121 N. Mill St. \n\n10:30 Liberty Business Systems- 30 Year Anniversary\n\n11:00 Hillcrest Lutheran Academy - 100 Year Anniversary\n\n11:30 Premier Outdoor Concepts - New Member
X-ALT-DESC;FMTTYPE=text/html:<strong>Chamber Ambassador Visits<br />\n10:00</strong> <strong>Northwestern Mutual - Jesse Nelson\, New Member</strong><br />\n&nbsp\;&nbsp\;&nbsp\;&nbsp\;&nbsp\;&nbsp\;&nbsp\;&nbsp\;&nbsp\;&nbsp\;&nbsp\;&nbsp\;121 N. Mill St.&nbsp\;<br />\n<strong>10:30 Liberty Business Systems- 30 Year Anniversary<br />\n11:00 Hillcrest Lutheran Academy - 100 Year&nbsp\;Anniversary<br />\n11:30 Premier Outdoor Concepts - New Member</strong><br />\n&nbsp\;
LOCATION:
UID:e.314.12539
SEQUENCE:3
DTSTAMP:20260425T003107Z
URL:https://business.fergusfalls.com/events/details/chamber-ambassador-visits-02-08-2017-12539
END:VEVENT

END:VCALENDAR
