BEGIN:VCALENDAR
VERSION:2.0
PRODID:-//ChamberMaster//Event Calendar 2.0//EN
METHOD:PUBLISH
X-PUBLISHED-TTL:P3D
REFRESH-INTERVAL:P3D
CALSCALE:GREGORIAN
BEGIN:VEVENT
DTSTART:20170308T160000Z
DTEND:20170308T180000Z
X-MICROSOFT-CDO-ALLDAYEVENT:FALSE
SUMMARY:Chamber Ambassador Visits - LOCATION CHANGE -
DESCRIPTION:Chamber Ambassador Visits\n\n10:00 Chamber Office - \n\n    202 S Court St.  - Fergus Falls\n\n10:30 The Tile Pros - New Location-\n\n    643 W Fir Avenue - Fergus Falls\n\n11:00 A Center for the Arts - 35 YR Anniversary \n\n    124 West Lincoln Avenue  - Fergus Falls\n\n11:30 Executive Sanitation Inc. - New Member    \n\n    Chamber Office 202 S. Court. St. - Fergus Falls\n\nBonus Visit:\n\n2:30pm Evan Lewis Inspections - New Member\n\n    Chamber office: 202 S. Court St. Fergus Falls
X-ALT-DESC;FMTTYPE=text/html:<strong>Chamber Ambassador Visits</strong><br />\n<b>10:00 Chamber Office -&nbsp\;</b><br />\n&nbsp\;&nbsp\;&nbsp\;&nbsp\;202 S Court St. &nbsp\;- Fergus Falls<br />\n<strong>10:30</strong> <strong>The Tile Pros - New Location-</strong><br />\n&nbsp\;&nbsp\;&nbsp\;&nbsp\;643 W Fir Avenue - Fergus Falls<br />\n<strong>11:00</strong> <strong>A Center for the Arts - 35 YR&nbsp\;Anniversary&nbsp\;</strong><br />\n&nbsp\;&nbsp\;&nbsp\;&nbsp\;124 West Lincoln Avenue &nbsp\;- Fergus Falls<br />\n<strong>11:30 Executive Sanitation Inc. - New Member</strong>&nbsp\;&nbsp\;&nbsp\;&nbsp\;<br />\n&nbsp\;&nbsp\;&nbsp\;&nbsp\;Chamber Office 202 S. Court. St. - Fergus Falls<br />\n<u>Bonus Visit:</u><br />\n<strong>2:30pm Evan Lewis Inspections - New Member</strong><br />\n&nbsp\; &nbsp\; Chamber office: 202 S. Court St. Fergus Falls<br />\n&nbsp\;
LOCATION:10:00 Mullen Insurance 220 W. Cavour Ave. - Fergus Falls 10:30 The Tile Pros - New Location- 643 W Fir Avenue - Fergus Falls 11:00 Wild Rose Floral & Gifts - New Ownership 204 N. Cascade Street - Fergus Falls 11:30 Executive Sanitation Inc. - New Member Chamber Office 202 S. Court. St. - Fergus Falls Bonus Visit: 2:30pm Evan Lewis Inspections - New Member Chamber office: 202 S. Court St. Fergus Falls
UID:e.314.12540
SEQUENCE:3
DTSTAMP:20260424T210322Z
URL:https://business.fergusfalls.com/events/details/chamber-ambassador-visits-03-08-2017-12540
END:VEVENT

END:VCALENDAR
