BEGIN:VCALENDAR
VERSION:2.0
PRODID:-//ChamberMaster//Event Calendar 2.0//EN
METHOD:PUBLISH
X-PUBLISHED-TTL:P3D
REFRESH-INTERVAL:P3D
CALSCALE:GREGORIAN
BEGIN:VEVENT
DTSTART:20190313T150000Z
DTEND:20190313T170000Z
X-MICROSOFT-CDO-ALLDAYEVENT:FALSE
SUMMARY:Chamber Ambassador Visits
DESCRIPTION:Chamber Ambassador Visits\n\n\n\n10:00 - Northwestern Bank - Ribbon Cutting\n\n            402 West Lincoln Ave\n\n10:30 - Comfort Inn - New Management \n\n            425 Western Ave\n\n11:00 - Knute Nelson - 70th Anniversary \n\n            202 S Court St. - Chamber Office\n\n11:30 - Fergus Falls Public Library - Renovation \n\n            205 E Hampden Ave.
X-ALT-DESC;FMTTYPE=text/html:<strong>Chamber Ambassador Visits</strong><br />\n<br />\n<strong>10:00 - Northwestern Bank - Ribbon Cutting</strong><br />\n&nbsp\;&nbsp\;&nbsp\;&nbsp\;&nbsp\;&nbsp\;&nbsp\;&nbsp\;&nbsp\;&nbsp\;&nbsp\;&nbsp\;402 West Lincoln Ave<br />\n<strong>10:30 - Comfort Inn - New Management </strong><br />\n&nbsp\;&nbsp\;&nbsp\;&nbsp\;&nbsp\;&nbsp\;&nbsp\;&nbsp\;&nbsp\;&nbsp\;&nbsp\;&nbsp\;425 Western Ave<br />\n<strong>11:00 - Knute Nelson - 70th Anniversary </strong><br />\n&nbsp\;&nbsp\;&nbsp\;&nbsp\;&nbsp\;&nbsp\;&nbsp\;&nbsp\;&nbsp\;&nbsp\;&nbsp\;&nbsp\;202 S Court St. - Chamber Office<br />\n<strong>11:30 - Fergus Falls Public Library - Renovation&nbsp\;</strong><br />\n&nbsp\;&nbsp\;&nbsp\;&nbsp\;&nbsp\;&nbsp\;&nbsp\;&nbsp\;&nbsp\;&nbsp\;&nbsp\;&nbsp\;205 E Hampden Ave.<br />\n&nbsp\;&nbsp\;&nbsp\;&nbsp\;&nbsp\;&nbsp\;&nbsp\;&nbsp\;&nbsp\;&nbsp\;
LOCATION:
UID:e.314.12564
SEQUENCE:3
DTSTAMP:20260423T080332Z
URL:https://business.fergusfalls.com/events/details/chamber-ambassador-visits-03-13-2019-12564
END:VEVENT

END:VCALENDAR
