BEGIN:VCALENDAR
VERSION:2.0
PRODID:-//ChamberMaster//Event Calendar 2.0//EN
METHOD:PUBLISH
X-PUBLISHED-TTL:P3D
REFRESH-INTERVAL:P3D
CALSCALE:GREGORIAN
BEGIN:VEVENT
DTSTART:20180314T150000Z
DTEND:20180314T170000Z
X-MICROSOFT-CDO-ALLDAYEVENT:FALSE
SUMMARY:Chamber Ambassador Visits
DESCRIPTION:Chamber Ambassador Visits\n\n\n\n10:00 - Double A Catering - New Member\n\n            1219 N. Union\n\n10:30 - Patriot Assisted Living \n\n            124 Oriole Dr.\n\n11:00 - Thrivent Financial - Taylor Larson\,  New Location \n\n            114 E Washington Ave\n\n11:30 - YMCA - 50 Year Anniversary \n\n            1164 North Friberg Avenue
X-ALT-DESC;FMTTYPE=text/html:<strong>Chamber Ambassador Visits</strong><br />\n<br />\n<strong>10:00 - Double A Catering - New Member</strong><br />\n&nbsp\;&nbsp\;&nbsp\;&nbsp\;&nbsp\;&nbsp\;&nbsp\;&nbsp\;&nbsp\;&nbsp\;&nbsp\;&nbsp\;1219 N. Union<br />\n<strong>10:30 - Patriot Assisted Living </strong><br />\n&nbsp\;&nbsp\;&nbsp\;&nbsp\;&nbsp\;&nbsp\;&nbsp\;&nbsp\;&nbsp\;&nbsp\;&nbsp\;&nbsp\;124 Oriole Dr.<br />\n<strong>11:00 - Thrivent Financial - Taylor Larson\, &nbsp\;New Location&nbsp\;</strong><br />\n<strong>&nbsp\;&nbsp\;&nbsp\;&nbsp\;&nbsp\;&nbsp\;&nbsp\;&nbsp\;&nbsp\;&nbsp\;&nbsp\;&nbsp\;</strong>114 E Washington Ave<br />\n<strong>11:30 - YMCA - 50 Year Anniversary </strong><br />\n&nbsp\;&nbsp\;&nbsp\;&nbsp\;&nbsp\;&nbsp\;&nbsp\;&nbsp\;&nbsp\;&nbsp\;&nbsp\;&nbsp\;1164 North Friberg Avenue<br />\n&nbsp\;
LOCATION:
UID:e.314.12552
SEQUENCE:3
DTSTAMP:20260424T025349Z
URL:https://business.fergusfalls.com/events/details/chamber-ambassador-visits-03-14-2018-12552
END:VEVENT

END:VCALENDAR
