BEGIN:VCALENDAR
VERSION:2.0
PRODID:-//ChamberMaster//Event Calendar 2.0//EN
METHOD:PUBLISH
X-PUBLISHED-TTL:P3D
REFRESH-INTERVAL:P3D
CALSCALE:GREGORIAN
BEGIN:VEVENT
DTSTART:20190410T150000Z
DTEND:20190410T170000Z
X-MICROSOFT-CDO-ALLDAYEVENT:FALSE
SUMMARY:Chamber Ambassador Visits
DESCRIPTION:Chamber Ambassador Visits\n\n\n\n10:00 - Cooper's Office Supply - 70th Anniversary\n\n            102 E Lincoln Ave\n\n10:30 - Otter Tail County - New Member\n\n            520 W. Fir Ave (Goverment Services Center)\n\n11:00 - Productive Alternatives - 60th Anniversary\n\n            1205 North Tower Road\n\n11:30 - InVision - 10 years on Location\n\n            810 N. Baird Ave.
X-ALT-DESC;FMTTYPE=text/html:Chamber Ambassador Visits<br />\n<br />\n10:00 - Cooper&#39\;s Office Supply - 70th Anniversary<br />\n&nbsp\;&nbsp\;&nbsp\;&nbsp\;&nbsp\;&nbsp\;&nbsp\;&nbsp\;&nbsp\;&nbsp\;&nbsp\;&nbsp\;102 E Lincoln Ave<br />\n10:30 - Otter Tail County - New Member<br />\n&nbsp\;&nbsp\;&nbsp\;&nbsp\;&nbsp\;&nbsp\;&nbsp\;&nbsp\;&nbsp\;&nbsp\;&nbsp\;&nbsp\;520 W. Fir Ave (Goverment Services Center)<br />\n11:00 - Productive Alternatives - 60th Anniversary<br />\n&nbsp\;&nbsp\;&nbsp\;&nbsp\;&nbsp\;&nbsp\;&nbsp\;&nbsp\;&nbsp\;&nbsp\;&nbsp\;&nbsp\;1205 North Tower Road<br />\n11:30 - InVision - 10 years&nbsp\;on&nbsp\;Location<br />\n&nbsp\;&nbsp\;&nbsp\;&nbsp\;&nbsp\;&nbsp\;&nbsp\;&nbsp\;&nbsp\;&nbsp\;&nbsp\; 810 N. Baird Ave.<br />\n&nbsp\;
LOCATION:
UID:e.314.12565
SEQUENCE:3
DTSTAMP:20260423T075725Z
URL:https://business.fergusfalls.com/events/details/chamber-ambassador-visits-04-10-2019-12565
END:VEVENT

END:VCALENDAR
