BEGIN:VCALENDAR
VERSION:2.0
PRODID:-//ChamberMaster//Event Calendar 2.0//EN
METHOD:PUBLISH
X-PUBLISHED-TTL:P3D
REFRESH-INTERVAL:P3D
CALSCALE:GREGORIAN
BEGIN:VEVENT
DTSTART:20180411T150000Z
DTEND:20180411T170000Z
X-MICROSOFT-CDO-ALLDAYEVENT:FALSE
SUMMARY:Chamber Ambassador Visits
DESCRIPTION:Chamber Ambassador Visits\n\n\n\n10:00 Jensen Builders - New Member \n\n            202 S Court St. (Renovated Chamber Building)\n\n10:30 Fergus Wash N Go - New Member - Ribbon Cutting\n\n            1225 N Union Ave\n\n11:00 - Orthopedic & Sports Physical Therapy Inc. (OSPTI) New Member\n\n             922 N Tower Rd\n\n11:30 -  Twice the Shine Cleaning Duo - New Member\n\n            403 S Union Ave
X-ALT-DESC;FMTTYPE=text/html:<strong>Chamber Ambassador Visits</strong><br />\n<br />\n<strong>10:00 Jensen Builders - New Member&nbsp\;</strong><br />\n&nbsp\;&nbsp\;&nbsp\;&nbsp\;&nbsp\;&nbsp\;&nbsp\;&nbsp\;&nbsp\;&nbsp\;&nbsp\;&nbsp\;202 S Court St. (Renovated Chamber Building)<br />\n<strong>10:30 Fergus Wash N Go - New Member</strong>&nbsp\;<strong>- Ribbon Cutting</strong><br />\n&nbsp\;&nbsp\;&nbsp\;&nbsp\;&nbsp\;&nbsp\;&nbsp\;&nbsp\;&nbsp\;&nbsp\;&nbsp\;&nbsp\;1225 N Union Ave<br />\n<strong>11:00 - Orthopedic &amp\; Sports Physical Therapy Inc. (OSPTI)&nbsp\;New Member</strong><br />\n&nbsp\;&nbsp\;&nbsp\;&nbsp\;&nbsp\;&nbsp\;&nbsp\;&nbsp\;&nbsp\;&nbsp\;&nbsp\;&nbsp\;<span style="font-size: 11px\;">&nbsp\;</span>922 N Tower Rd<br />\n<strong>11:30&nbsp\;-</strong>&nbsp\;&nbsp\;<strong>Twice the Shine Cleaning Duo - New Member</strong><br />\n&nbsp\;&nbsp\;&nbsp\;&nbsp\;&nbsp\;&nbsp\;&nbsp\;&nbsp\;&nbsp\;&nbsp\;&nbsp\;&nbsp\;403 S Union Ave<br />\n&nbsp\;
LOCATION:
UID:e.314.12553
SEQUENCE:3
DTSTAMP:20260423T235538Z
URL:https://business.fergusfalls.com/events/details/chamber-ambassador-visits-04-11-2018-12553
END:VEVENT

END:VCALENDAR
