BEGIN:VCALENDAR
VERSION:2.0
PRODID:-//ChamberMaster//Event Calendar 2.0//EN
METHOD:PUBLISH
X-PUBLISHED-TTL:P3D
REFRESH-INTERVAL:P3D
CALSCALE:GREGORIAN
BEGIN:VEVENT
DTSTART:20190508T150000Z
DTEND:20190508T170000Z
X-MICROSOFT-CDO-ALLDAYEVENT:FALSE
SUMMARY:Chamber Ambassador Visits
DESCRIPTION:Chamber Ambassador Visits\n\n10:00 - Lake Region Recovery Homes\, Inc. - New Member\n\n            202 S. Court St.  (Chamber Office)\n\n10:30 - Victor Lundeen Company - 105th Anniversary \n\n            126 W Lincoln Ave\n\n11:00 - Minnesota Veterans Home - New Member \n\n            1821 North Park Street\n\n11:30 - Friends of the Praire Wetlands Learning Center - New Member\n\n            602 State Highway 210 E\n\n            Fergus Falls\, MN
X-ALT-DESC;FMTTYPE=text/html:<p><strong>Chamber Ambassador Visits</strong><br />\n<strong>10:00 - Lake Region Recovery Homes\, Inc. - New Member</strong><br />\n&nbsp\;&nbsp\;&nbsp\;&nbsp\;&nbsp\;&nbsp\;&nbsp\;&nbsp\;&nbsp\;&nbsp\;&nbsp\;&nbsp\;202 S. Court St.&nbsp\; (Chamber Office)<br />\n<strong>10:30 - Victor Lundeen Company - 105th Anniversary </strong><br />\n&nbsp\;&nbsp\;&nbsp\;&nbsp\;&nbsp\;&nbsp\;&nbsp\;&nbsp\;&nbsp\;&nbsp\;&nbsp\;&nbsp\;126 W Lincoln Ave<br />\n<strong>11:00 - Minnesota Veterans Home - New Member&nbsp\;</strong><br />\n&nbsp\;&nbsp\;&nbsp\;&nbsp\;&nbsp\;&nbsp\;&nbsp\;&nbsp\;&nbsp\;&nbsp\;&nbsp\;&nbsp\;1821 North Park Street<br />\n<strong>11:30 - Friends of the Praire Wetlands Learning Center - New Member</strong><br />\n&nbsp\;&nbsp\;&nbsp\;&nbsp\;&nbsp\;&nbsp\;&nbsp\;&nbsp\;&nbsp\;&nbsp\;&nbsp\;&nbsp\;<span class="b_address">602 State Highway 210 E</span><br />\n&nbsp\;&nbsp\;&nbsp\;&nbsp\;&nbsp\;&nbsp\;&nbsp\;&nbsp\;&nbsp\;&nbsp\;&nbsp\;&nbsp\;<span class="b_address">Fergus Falls\, MN </span></p>\n
LOCATION:Lake Region Recovery Homes\, Inc. 202 S. Court St. (Chamber Office) Victor Lundeen Company 126 W Lincoln Ave Minnesota Veterans Home 1821 North Park Street Friends of the Praire Wetlands Learning Center 602 State Highway 210 E
UID:e.314.12566
SEQUENCE:3
DTSTAMP:20260423T050440Z
URL:https://business.fergusfalls.com/events/details/chamber-ambassador-visits-05-08-2019-12566
END:VEVENT

END:VCALENDAR
