BEGIN:VCALENDAR
VERSION:2.0
PRODID:-//ChamberMaster//Event Calendar 2.0//EN
METHOD:PUBLISH
X-PUBLISHED-TTL:P3D
REFRESH-INTERVAL:P3D
CALSCALE:GREGORIAN
BEGIN:VEVENT
DTSTART:20180509T153000Z
DTEND:20180509T170000Z
X-MICROSOFT-CDO-ALLDAYEVENT:FALSE
SUMMARY:Chamber Ambassador Visits
DESCRIPTION:Chamber Ambassador Visits\n\n\n\n10:30 -  Northwest Rehabilitation - New Member\n\n                1304 Lincoln Avenue W\n\n11:00 - Thrivent Financial - JP Stender - New Member\n\n                120 S. Vine\n\n11:30 - Elks Club 1093 - Point Campground\, Bar & Grill - New Member\n\n                20970   Elks Point Road  (off of Hwy 210)
X-ALT-DESC;FMTTYPE=text/html:<span style="font-size: 18px\;"><strong>Chamber Ambassador Visits</strong></span><br />\n<br />\n<strong>10:30 -&nbsp\; Northwest Rehabilitation - New Member</strong><br />\n&nbsp\;&nbsp\;&nbsp\;&nbsp\;&nbsp\;&nbsp\;&nbsp\;&nbsp\;&nbsp\;&nbsp\;&nbsp\;&nbsp\;&nbsp\;&nbsp\;&nbsp\;&nbsp\;1304 Lincoln Avenue W<br />\n<strong>11:00 - Thrivent Financial - JP Stender&nbsp\;</strong>- <strong>New Member</strong><br />\n&nbsp\;&nbsp\;&nbsp\;&nbsp\;&nbsp\;&nbsp\;&nbsp\;&nbsp\;&nbsp\;&nbsp\;&nbsp\;&nbsp\;&nbsp\;&nbsp\;&nbsp\;&nbsp\;120 S. Vine<br />\n<strong>11:30 - Elks Club 1093 - Point Campground\, Bar &amp\; Grill - New Member</strong><br />\n&nbsp\;&nbsp\;&nbsp\;&nbsp\;&nbsp\;&nbsp\;&nbsp\;&nbsp\;&nbsp\;&nbsp\;&nbsp\;&nbsp\;&nbsp\;&nbsp\;&nbsp\;&nbsp\;20970&nbsp\;&nbsp\;&nbsp\;Elks Point Road&nbsp\; (off of Hwy 210)<br />\n&nbsp\;
LOCATION:
UID:e.314.12554
SEQUENCE:3
DTSTAMP:20260423T224734Z
URL:https://business.fergusfalls.com/events/details/chamber-ambassador-visits-05-09-2018-12554
END:VEVENT

END:VCALENDAR
