BEGIN:VCALENDAR
VERSION:2.0
PRODID:-//ChamberMaster//Event Calendar 2.0//EN
METHOD:PUBLISH
X-PUBLISHED-TTL:P3D
REFRESH-INTERVAL:P3D
CALSCALE:GREGORIAN
BEGIN:VEVENT
DTSTART:20210609T150000Z
DTEND:20210609T170000Z
X-MICROSOFT-CDO-ALLDAYEVENT:FALSE
SUMMARY:Chamber Ambassador Visits
DESCRIPTION:June Chamber Ambassador Visits -- All Chamber members are invited to join us as we celebrate with new Chamber members\, new businesses\, anniversaries\, renovations\, new locations and more! \n\n\n\nChamber Ambassador Visits\n\n\n\n10:00am TC Foods\, Terroir Chocolate\n\n        Chamber\, 202 S Court St.\n\n\n\n10:30am Variant Digital\n\n        Chamber \, 202 S Court St\n\n\n\n11:00am  Security Stat Bank\n\n        128 E Washington Ave.
X-ALT-DESC;FMTTYPE=text/html:<br />\n<span style="font-size: 14px\;"><span style="font-family: tahoma\;"><span style="color: rgb(0\, 0\, 0)\;">June Chamber Ambassador Visits -- All Chamber members are invited to join us as we celebrate with new Chamber members\, new businesses\, anniversaries\, renovations\, new locations and more!&nbsp\;</span></span></span><br />\n<br />\n<span style="font-size:14px\;"><span style="font-family:tahoma\;"><u><strong>Chamber Ambassador Visits</strong></u><br />\n<br />\n<strong>10:00am TC Foods\, Terroir Chocolate</strong><br />\n&nbsp\;&nbsp\;&nbsp\;&nbsp\;&nbsp\; &nbsp\; Chamber\, 202 S Court St.<br />\n<br />\n<strong>10:30am Variant Digital</strong><br />\n&nbsp\;&nbsp\;&nbsp\;&nbsp\;&nbsp\; &nbsp\; Chamber \, 202 S Court St<br />\n<br />\n<strong>11:00am&nbsp\; Security Stat Bank</strong><br />\n&nbsp\;&nbsp\;&nbsp\;&nbsp\;&nbsp\; &nbsp\; 128 E Washington Ave.</span></span><br />\n&nbsp\;
LOCATION:
UID:e.314.12591
SEQUENCE:3
DTSTAMP:20260421T135618Z
URL:https://business.fergusfalls.com/events/details/chamber-ambassador-visits-06-09-2021-12591
END:VEVENT

END:VCALENDAR
