BEGIN:VCALENDAR
VERSION:2.0
PRODID:-//ChamberMaster//Event Calendar 2.0//EN
METHOD:PUBLISH
X-PUBLISHED-TTL:P3D
REFRESH-INTERVAL:P3D
CALSCALE:GREGORIAN
BEGIN:VEVENT
DTSTART:20180613T150000Z
DTEND:20180613T170000Z
X-MICROSOFT-CDO-ALLDAYEVENT:FALSE
SUMMARY:Chamber Ambassador Visits
DESCRIPTION:Chamber Ambassador Visits\n\n\n\n10:00 am - Thrivent Financial - Kurt Nygaard - New Location\n\n                    1401 College Way\n\n10:30 am - Little Chief Outpost - New Remodel \n\n                    Pebble Lake Road\n\n11:00 am - Rustic Lilly Boutique - New Member\n\n                    403 S Union - Chamber Office\n\n11:30 am - Vision Concepts - New Member\n\n                    1740 College Way
X-ALT-DESC;FMTTYPE=text/html:<strong>Chamber Ambassador Visits<br />\n<br />\n10:00 am - Thrivent Financial -&nbsp\;Kurt Nygaard - New Location</strong><br />\n&nbsp\;&nbsp\;&nbsp\;&nbsp\;&nbsp\;&nbsp\;&nbsp\;&nbsp\;&nbsp\;&nbsp\;&nbsp\;&nbsp\;&nbsp\;&nbsp\;&nbsp\;&nbsp\;&nbsp\;&nbsp\;&nbsp\;&nbsp\;1401 College Way<br />\n<strong>10:30 am - Little Chief Outpost - New Remodel </strong><br />\n&nbsp\;&nbsp\;&nbsp\;&nbsp\;&nbsp\;&nbsp\;&nbsp\;&nbsp\;&nbsp\;&nbsp\;&nbsp\;&nbsp\;&nbsp\;&nbsp\;&nbsp\;&nbsp\;&nbsp\;&nbsp\;&nbsp\;&nbsp\;Pebble Lake Road<br />\n<strong>11:00 am - Rustic Lilly Boutique - New Member</strong><br />\n&nbsp\;&nbsp\;&nbsp\;&nbsp\;&nbsp\;&nbsp\;&nbsp\;&nbsp\;&nbsp\;&nbsp\;&nbsp\;&nbsp\;&nbsp\;&nbsp\;&nbsp\;&nbsp\;&nbsp\;&nbsp\;&nbsp\;&nbsp\;403 S Union - Chamber Office<br />\n<strong>11:30 am - Vision Concepts - New Member</strong><br />\n&nbsp\;&nbsp\;&nbsp\;&nbsp\;&nbsp\;&nbsp\;&nbsp\;&nbsp\;&nbsp\;&nbsp\;&nbsp\;&nbsp\;&nbsp\;&nbsp\;&nbsp\;&nbsp\;&nbsp\;&nbsp\;&nbsp\;&nbsp\;1740 College Way<br />\n&nbsp\;
LOCATION:
UID:e.314.12555
SEQUENCE:3
DTSTAMP:20260423T212902Z
URL:https://business.fergusfalls.com/events/details/chamber-ambassador-visits-06-13-2018-12555
END:VEVENT

END:VCALENDAR
