BEGIN:VCALENDAR
VERSION:2.0
PRODID:-//ChamberMaster//Event Calendar 2.0//EN
METHOD:PUBLISH
X-PUBLISHED-TTL:P3D
REFRESH-INTERVAL:P3D
CALSCALE:GREGORIAN
BEGIN:VEVENT
DTSTART:20180711T150000Z
DTEND:20180711T170000Z
X-MICROSOFT-CDO-ALLDAYEVENT:FALSE
SUMMARY:Chamber Ambassador Visits
DESCRIPTION:Chamber Ambassador Visits\n\n\n\n10:00 - Herzog Property Management LLC - New Member \n\n            119 North Union Avenue\n\n10:30 - Grant Davenport Agency - Farmers Union Insurance - New Location\n\n            114 E Washington Ave\n\n11:00 - Otter Tail Telcom/Park Region Telephone - Remodel\n\n            230 West Lincoln Ave\n\n11:30 - Seland's Abbey Flooring Center\n\n            17296 County Highway 82
X-ALT-DESC;FMTTYPE=text/html:<strong>Chamber Ambassador Visits<br />\n<br />\n10:00 - Herzog Property Management LLC - New Member </strong><br />\n&nbsp\;&nbsp\;&nbsp\;&nbsp\;&nbsp\;&nbsp\;&nbsp\;&nbsp\;&nbsp\;&nbsp\;&nbsp\;&nbsp\;119 North Union Avenue<br />\n<strong>10:30 - Grant Davenport Agency - Farmers Union Insurance - New Location</strong><br />\n&nbsp\;&nbsp\;&nbsp\;&nbsp\;&nbsp\;&nbsp\;&nbsp\;&nbsp\;&nbsp\;&nbsp\;&nbsp\;&nbsp\;114 E Washington Ave<br />\n<strong>11:00 - Otter Tail Telcom/Park Region Telephone - Remodel</strong><br />\n&nbsp\;&nbsp\;&nbsp\;&nbsp\;&nbsp\;&nbsp\;&nbsp\;&nbsp\;&nbsp\;&nbsp\;&nbsp\;&nbsp\;230 West Lincoln Ave<br />\n<strong>11:30 - Seland&#39\;s Abbey Flooring Center</strong><br />\n&nbsp\;&nbsp\;&nbsp\;&nbsp\;&nbsp\;&nbsp\;&nbsp\;&nbsp\;&nbsp\;&nbsp\;&nbsp\;&nbsp\;17296 County Highway 82<br />\n&nbsp\;
LOCATION:
UID:e.314.12556
SEQUENCE:3
DTSTAMP:20260423T195749Z
URL:https://business.fergusfalls.com/events/details/chamber-ambassador-visits-07-11-2018-12556
END:VEVENT

END:VCALENDAR
