BEGIN:VCALENDAR
VERSION:2.0
PRODID:-//ChamberMaster//Event Calendar 2.0//EN
METHOD:PUBLISH
X-PUBLISHED-TTL:P3D
REFRESH-INTERVAL:P3D
CALSCALE:GREGORIAN
BEGIN:VEVENT
DTSTART:20210714T150000Z
DTEND:20210714T170000Z
X-MICROSOFT-CDO-ALLDAYEVENT:FALSE
SUMMARY:Chamber Ambassador Visits
DESCRIPTION:Chamber Ambassador Visits\n\n\n\n10:00 Builders FirstSource\n\n        1315 Pebble Lake Rd. \n\n\n\n10:30am Back to Chamber for TC Foods\, Terroir Chocolates \n\n\n\n11:00am TC Foods\, Terroir Chocolates\n\n        202 S. Court St. (Chamber building)\n\n\n\n11:30am Larson Insurance\n\n        125 N Union Ave
X-ALT-DESC;FMTTYPE=text/html:<span style="font-family:tahoma\;"><span style="font-size:14px\;">Chamber Ambassador Visits<br />\n<br />\n10:00 Builders FirstSource<br />\n&nbsp\;&nbsp\;&nbsp\;&nbsp\;&nbsp\; &nbsp\; 1315 Pebble Lake Rd.&nbsp\;<br />\n<br />\n10:30am Back to Chamber for TC Foods\, Terroir Chocolates&nbsp\;<br />\n<br />\n11:00am TC Foods\, Terroir Chocolates<br />\n&nbsp\;&nbsp\;&nbsp\;&nbsp\;&nbsp\; &nbsp\; 202 S. Court St. (Chamber building)<br />\n<br />\n11:30am Larson Insurance<br />\n&nbsp\;&nbsp\;&nbsp\;&nbsp\;&nbsp\; &nbsp\; 125 N Union Ave&nbsp\;</span></span><br />\n&nbsp\;&nbsp\;&nbsp\;&nbsp\;<br />\n&nbsp\;
LOCATION:
UID:e.314.12592
SEQUENCE:3
DTSTAMP:20260421T123710Z
URL:https://business.fergusfalls.com/events/details/chamber-ambassador-visits-07-14-2021-12592
END:VEVENT

END:VCALENDAR
