BEGIN:VCALENDAR
VERSION:2.0
PRODID:-//ChamberMaster//Event Calendar 2.0//EN
METHOD:PUBLISH
X-PUBLISHED-TTL:P3D
REFRESH-INTERVAL:P3D
CALSCALE:GREGORIAN
BEGIN:VEVENT
DTSTART:20180808T150000Z
DTEND:20180808T170000Z
X-MICROSOFT-CDO-ALLDAYEVENT:FALSE
SUMMARY:Chamber Ambassador Visits
DESCRIPTION:Chamber Ambassador Visits\n\n\n\n10:00 - Jeremy Petrick Photography - New Location \n\n            110 S Mill St.\n\n10:30 - The Daily Journal - 145 Years \n\n            914 E Channing Ave.\n\n11:00 - Poppy Seed Massage - New Member \n\n            214 E Cavour
X-ALT-DESC;FMTTYPE=text/html:<strong>Chamber Ambassador Visits<br />\n<br />\n10:00 - Jeremy Petrick Photography - New Location </strong><br />\n&nbsp\;&nbsp\;&nbsp\;&nbsp\;&nbsp\;&nbsp\;&nbsp\;&nbsp\;&nbsp\;&nbsp\;&nbsp\;&nbsp\;110 S Mill St.<br />\n<strong>10:30 -&nbsp\;The Daily Journal&nbsp\;- 145 Years </strong><br />\n&nbsp\;&nbsp\;&nbsp\;&nbsp\;&nbsp\;&nbsp\;&nbsp\;&nbsp\;&nbsp\;&nbsp\;&nbsp\;&nbsp\;914 E Channing Ave.<br />\n<strong>11:00 - Poppy Seed Massage - New Member </strong><br />\n&nbsp\;&nbsp\;&nbsp\;&nbsp\;&nbsp\;&nbsp\;&nbsp\;&nbsp\;&nbsp\;&nbsp\;&nbsp\;&nbsp\;214 E Cavour<br />\n<br />\n&nbsp\;
LOCATION:
UID:e.314.12557
SEQUENCE:3
DTSTAMP:20260423T194102Z
URL:https://business.fergusfalls.com/events/details/chamber-ambassador-visits-08-08-2018-12557
END:VEVENT

END:VCALENDAR
