BEGIN:VCALENDAR
VERSION:2.0
PRODID:-//ChamberMaster//Event Calendar 2.0//EN
METHOD:PUBLISH
X-PUBLISHED-TTL:P3D
REFRESH-INTERVAL:P3D
CALSCALE:GREGORIAN
BEGIN:VEVENT
DTSTART:20210811T150000Z
DTEND:20210811T170000Z
X-MICROSOFT-CDO-ALLDAYEVENT:FALSE
SUMMARY:Chamber Ambassador Visits
DESCRIPTION:August 2021 Chamber Ambassador Visits\n\nAll Chamber members welcome to join for the visits to welcome our new businesses\, new members and celebrate milestones.\n\n10:00am Cardinal Consulting - new business & new member\n\n10:30 Dandelion & Burdock - new business & new member\n\n11:00 Wireless World -- new business/owner (formerly Design Electronics/Radio Shack)\n\n11:30am Outstate Brewing - new business & new member\n\n12:00pm Fergus Falls Chamber -- 135th Anniversary\, Open House 12-2pm\n\n\n\n(Please arrive and park south of the Chamber as the Court St. bridge may be closed due to riverfront construction).
X-ALT-DESC;FMTTYPE=text/html:<span style="font-family:verdana\;"><strong>August 2021 Chamber Ambassador Visits</strong><br />\nAll Chamber members welcome to join for the visits to welcome our new businesses\, new members and celebrate milestones.<br />\n10:00am Cardinal Consulting - new business &amp\; new member<br />\n10:30 Dandelion &amp\; Burdock - new business &amp\; new member<br />\n11:00 Wireless World -- new business/owner (formerly Design Electronics/Radio Shack)<br />\n11:30am&nbsp\;Outstate Brewing - new business &amp\; new member<br />\n12:00pm Fergus Falls Chamber -- 135th Anniversary\, <strong>Open House 12-2pm</strong><br />\n<br />\n(Please arrive and park south of the Chamber as the Court St. bridge may be closed due to riverfront construction).</span><br />\n&nbsp\;
LOCATION:202 S. Court St. -- Cardinal Consulting 121 W. Lincoln Ave. -- Dandelion & Burdock 2013 College Way -- Wireless World - Fergus Falls 130 S. Vine St. -- Outstate Brewing 202 S. Court St. -- Fergus Falls Chamber
UID:e.314.12593
SEQUENCE:3
DTSTAMP:20260421T110857Z
URL:https://business.fergusfalls.com/events/details/chamber-ambassador-visits-08-11-2021-12593
END:VEVENT

END:VCALENDAR
