BEGIN:VCALENDAR
VERSION:2.0
PRODID:-//ChamberMaster//Event Calendar 2.0//EN
METHOD:PUBLISH
X-PUBLISHED-TTL:P3D
REFRESH-INTERVAL:P3D
CALSCALE:GREGORIAN
BEGIN:VEVENT
DTSTART:20210908T150000Z
DTEND:20210908T170000Z
X-MICROSOFT-CDO-ALLDAYEVENT:FALSE
SUMMARY:Chamber Ambassador Visits
DESCRIPTION:September 2021 Chamber Ambassador Visits -- Join us in celebrating NEW businesses and new Chamber members:\n\nSeeded Designs - new business\, new member\n\nCBMC\, Inc. - new member\n\nRiver City Auto Inc. - new business & new member -- RIBBON CUTTING\n\nSpringboard for the Arts - 10th Anniversary
X-ALT-DESC;FMTTYPE=text/html:<p>September 2021 Chamber Ambassador Visits -- Join us in celebrating NEW businesses and new Chamber members:<br />\nSeeded Designs - new business\, new member<br />\nCBMC\, Inc. - new member<br />\nRiver City Auto Inc. - new business &amp\; new member -- RIBBON CUTTING<br />\nSpringboard for the Arts - 10th Anniversary<br />\n&nbsp\;</p>\n
LOCATION:Fergus Falls Chamber office: 202 S. Court St. (Seeded Designs & CBMC\, Inc) River City Auto: 507 S. Sheridan St. Springboard for the Arts: 201 W. Lincoln Ave.
UID:e.314.12594
SEQUENCE:3
DTSTAMP:20260421T083755Z
URL:https://business.fergusfalls.com/events/details/chamber-ambassador-visits-09-08-2021-12594
END:VEVENT

END:VCALENDAR
