BEGIN:VCALENDAR
VERSION:2.0
PRODID:-//ChamberMaster//Event Calendar 2.0//EN
METHOD:PUBLISH
X-PUBLISHED-TTL:P3D
REFRESH-INTERVAL:P3D
CALSCALE:GREGORIAN
BEGIN:VEVENT
DTSTART:20190911T150000Z
DTEND:20190911T170000Z
X-MICROSOFT-CDO-ALLDAYEVENT:FALSE
SUMMARY:Chamber Ambassador Visits
DESCRIPTION:Chamber Ambassador Visits\n\n10:00 - Cooking with MamaSheena\n\n            202 S Court St.  (Chamber Office)\n\n10:30 - Taco John's 50th Anniversary \n\n            1212 North Union Avenue\n\n11:00 - Dr. Zack - New Member\n\n            109 North Mill St.\n\n11:30 - T. Walls Plumbing Inc.\, - New Member\n\n            202 S. Court St. (Chamber Office)
X-ALT-DESC;FMTTYPE=text/html:<strong>Chamber Ambassador Visits<br />\n10:00 - Cooking with MamaSheena</strong><br />\n&nbsp\;&nbsp\;&nbsp\;&nbsp\;&nbsp\;&nbsp\;&nbsp\;&nbsp\;&nbsp\;&nbsp\;&nbsp\;&nbsp\;202 S Court St.&nbsp\; (Chamber Office)<br />\n<strong>10:30 - Taco John&#39\;s 50th Anniversary </strong><br />\n&nbsp\;&nbsp\;&nbsp\;&nbsp\;&nbsp\;&nbsp\;&nbsp\;&nbsp\;&nbsp\;&nbsp\;&nbsp\;&nbsp\;1212 North Union Avenue<br />\n<strong>11:00 - Dr. Zack - New Member</strong><br />\n&nbsp\;&nbsp\;&nbsp\;&nbsp\;&nbsp\;&nbsp\;&nbsp\;&nbsp\;&nbsp\;&nbsp\;&nbsp\;&nbsp\;109 North Mill St.<br />\n<strong>11:30 - T. Walls Plumbing Inc.\, - New Member</strong><br />\n&nbsp\;&nbsp\;&nbsp\;&nbsp\;&nbsp\;&nbsp\;&nbsp\;&nbsp\;&nbsp\;&nbsp\;&nbsp\;&nbsp\;202 S. Court St. (Chamber Office)<br />\n&nbsp\;
LOCATION:
UID:e.314.12570
SEQUENCE:3
DTSTAMP:20260422T222651Z
URL:https://business.fergusfalls.com/events/details/chamber-ambassador-visits-09-11-2019-12570
END:VEVENT

END:VCALENDAR
