BEGIN:VCALENDAR
VERSION:2.0
PRODID:-//ChamberMaster//Event Calendar 2.0//EN
METHOD:PUBLISH
X-PUBLISHED-TTL:P3D
REFRESH-INTERVAL:P3D
CALSCALE:GREGORIAN
BEGIN:VEVENT
DTSTART:20180912T150000Z
DTEND:20180912T170000Z
X-MICROSOFT-CDO-ALLDAYEVENT:FALSE
SUMMARY:Chamber Ambassador Visits
DESCRIPTION:Chamber Ambassador Visits\n\n\n\n10:00 - Chamber of Commerce - Renovation \n\n            202 S Court St.\n\n\n\n10:30 - Rohde Insurance Services - 40th Anniversary\n\n            1213 North Union Avenue\n\n\n\n11:00 - Bartz- Emery Chiropractic - New Member\n\n            214 E Cavour
X-ALT-DESC;FMTTYPE=text/html:<strong>Chamber Ambassador Visits<br />\n<br />\n10:00 - Chamber&nbsp\;of Commerce - Renovation </strong><br />\n&nbsp\;&nbsp\;&nbsp\;&nbsp\;&nbsp\;&nbsp\;&nbsp\;&nbsp\;&nbsp\;&nbsp\;&nbsp\;&nbsp\;202 S Court St.<br />\n<br />\n<strong>10:30 - Rohde Insurance Services - 40th Anniversary</strong><br />\n&nbsp\;&nbsp\;&nbsp\;&nbsp\;&nbsp\;&nbsp\;&nbsp\;&nbsp\;&nbsp\;&nbsp\;&nbsp\;&nbsp\;1213 North Union Avenue<br />\n<br />\n<strong>11:00 - Bartz- Emery Chiropractic - New Member</strong><br />\n&nbsp\;&nbsp\;&nbsp\;&nbsp\;&nbsp\;&nbsp\;&nbsp\;&nbsp\;&nbsp\;&nbsp\;&nbsp\;&nbsp\;214 E Cavour<br />\n<br />\n<br />\n&nbsp\;&nbsp\;&nbsp\;&nbsp\;&nbsp\;&nbsp\;&nbsp\;&nbsp\;
LOCATION:
UID:e.314.12558
SEQUENCE:3
DTSTAMP:20260423T165230Z
URL:https://business.fergusfalls.com/events/details/chamber-ambassador-visits-09-12-2018-12558
END:VEVENT

END:VCALENDAR
