BEGIN:VCALENDAR
VERSION:2.0
PRODID:-//ChamberMaster//Event Calendar 2.0//EN
METHOD:PUBLISH
X-PUBLISHED-TTL:P3D
REFRESH-INTERVAL:P3D
CALSCALE:GREGORIAN
BEGIN:VEVENT
DTSTART:20191009T150000Z
DTEND:20191009T170000Z
X-MICROSOFT-CDO-ALLDAYEVENT:FALSE
SUMMARY:Chamber Ambassador Visits
DESCRIPTION:Chamber Ambassador Visits\n\n10:00 - Subzero Insulation LLC - New Member\n\n            202 S Court St . (Chamber Office)\n\n10:30 - Caf  116 - 10th Anniversary \n\n            116 S Union Ave\n\n11:00 - Ugstad Plumbing & Heating Inc. - 60th Anniversary \n\n            3209 East Fir Ave\n\n11:30 - Madsen Properties\, Inc. - New Member\n\n            Goldenwood Apartments - 1145 Friberg Avenue
X-ALT-DESC;FMTTYPE=text/html:<span style="font-family: arial\;"><strong>Chamber Ambassador Visits<br />\n10:00 - Subzero Insulation LLC - New Member</strong></span><br />\n&nbsp\;&nbsp\;&nbsp\;&nbsp\;&nbsp\;&nbsp\;&nbsp\;&nbsp\;&nbsp\;&nbsp\;&nbsp\;&nbsp\;202 S Court St . (Chamber Office)<br />\n<span style="font-family: arial\;"><strong>10:30 </strong>- <strong>Caf&eacute\; 116 - 10th Anniversary </strong></span><br />\n&nbsp\;&nbsp\;&nbsp\;&nbsp\;&nbsp\;&nbsp\;&nbsp\;&nbsp\;&nbsp\;&nbsp\;&nbsp\;&nbsp\;116 S Union Ave<br />\n<span style="font-family: arial\;"><strong>11:00 </strong>- </span><strong>Ugstad Plumbing &amp\; Heating Inc. </strong><span style="font-family: arial\;"><strong>- 60th Anniversary </strong></span><br />\n&nbsp\;&nbsp\;&nbsp\;&nbsp\;&nbsp\;&nbsp\;&nbsp\;&nbsp\;&nbsp\;&nbsp\;&nbsp\;&nbsp\;3209 East Fir Ave<br />\n<span style="font-family: arial\;"><strong>11:30 - </strong></span><strong>Madsen Properties\, Inc. - New Member</strong><br />\n&nbsp\;&nbsp\;&nbsp\;&nbsp\;&nbsp\;&nbsp\;&nbsp\;&nbsp\;&nbsp\;&nbsp\;&nbsp\;&nbsp\;Goldenwood Apartments -&nbsp\;1145 Friberg Avenue
LOCATION:
UID:e.314.12571
SEQUENCE:3
DTSTAMP:20260422T222218Z
URL:https://business.fergusfalls.com/events/details/chamber-ambassador-visits-10-09-2019-12571
END:VEVENT

END:VCALENDAR
