BEGIN:VCALENDAR
VERSION:2.0
PRODID:-//ChamberMaster//Event Calendar 2.0//EN
METHOD:PUBLISH
X-PUBLISHED-TTL:P3D
REFRESH-INTERVAL:P3D
CALSCALE:GREGORIAN
BEGIN:VEVENT
DTSTART:20181010T150000Z
DTEND:20181010T170000Z
X-MICROSOFT-CDO-ALLDAYEVENT:FALSE
SUMMARY:Chamber Ambassador Visits
DESCRIPTION:Chamber Ambassador Visits\n\n\n\n10:00 - Pinnacle Pro Floor Care - 10th Anniversary \n\n            202 S. Court St. (Chamber Office)\n\n10:30 - Salvation Army - 125th Anniversary \n\n            622 E. Vernon Ave\n\n11:00 - Pioneer Care - 90th Anniversary \n\n            1131 Mabelle Avenue S\n\n11:30 - Rural MN CEP - 50th Anniversary \n\n            125 W Lincoln Ave
X-ALT-DESC;FMTTYPE=text/html:<strong>Chamber Ambassador Visits</strong><br />\n<br />\n<strong>10:00</strong> - <strong>Pinnacle Pro Floor Care - 10th Anniversary </strong><br />\n&nbsp\;&nbsp\;&nbsp\;&nbsp\;&nbsp\;&nbsp\;&nbsp\;&nbsp\;&nbsp\;&nbsp\;&nbsp\;&nbsp\;202 S. Court St. (Chamber Office)<br />\n<strong>10:30 - Salvation Army - 125th Anniversary </strong><br />\n&nbsp\;&nbsp\;&nbsp\;&nbsp\;&nbsp\;&nbsp\;&nbsp\;&nbsp\;&nbsp\;&nbsp\;&nbsp\;&nbsp\;622 E. Vernon Ave<br />\n<strong>11:00 - Pioneer Care - 90th Anniversary </strong><br />\n&nbsp\;&nbsp\;&nbsp\;&nbsp\;&nbsp\;&nbsp\;&nbsp\;&nbsp\;&nbsp\;&nbsp\;&nbsp\;&nbsp\;1131 Mabelle Avenue S<br />\n<strong>11:30</strong> - <strong>Rural MN CEP - 50th Anniversary </strong><br />\n&nbsp\;&nbsp\;&nbsp\;&nbsp\;&nbsp\;&nbsp\;&nbsp\;&nbsp\;&nbsp\;&nbsp\;&nbsp\;&nbsp\;125 W Lincoln Ave
LOCATION:
UID:e.314.12559
SEQUENCE:3
DTSTAMP:20260423T163524Z
URL:https://business.fergusfalls.com/events/details/chamber-ambassador-visits-10-10-2018-12559
END:VEVENT

END:VCALENDAR
