BEGIN:VCALENDAR
VERSION:2.0
PRODID:-//ChamberMaster//Event Calendar 2.0//EN
METHOD:PUBLISH
X-PUBLISHED-TTL:P3D
REFRESH-INTERVAL:P3D
CALSCALE:GREGORIAN
BEGIN:VEVENT
DTSTART:20171011T150000Z
DTEND:20171011T170000Z
X-MICROSOFT-CDO-ALLDAYEVENT:FALSE
SUMMARY:Chamber Ambassador Visits
DESCRIPTION:Chamber Ambassador Visits\n\n10:00 Knight Printing - New Member \n\n    202 S. Court St. Fergus Falls\n\n10:30 William Baity Welding & Blacksmithing - New Member    \n\n    202 S. Court St. Fergus Falls\n\n11:00  The Fabled Farmer - New Member\n\n    412 W. Lincoln Ave. Fergus Falls\n\n11:30  Aflac - Sheri Meis - New Location \n\n    1008 Frontier Dr.\, Ste 101 Fergus Falls
X-ALT-DESC;FMTTYPE=text/html:<strong>Chamber Ambassador Visits<br />\n10:00 Knight Printing - New Member </strong><br />\n&nbsp\;&nbsp\;&nbsp\;&nbsp\;202 S. Court St. Fergus Falls<br />\n<strong>10:30</strong> <strong>William Baity Welding &amp\; Blacksmithing - New Member</strong>&nbsp\;&nbsp\;&nbsp\;&nbsp\;<br />\n&nbsp\;&nbsp\;&nbsp\;&nbsp\;202 S. Court St. Fergus Falls<br />\n<strong>11:00&nbsp\; The Fabled Farmer - New Member</strong><br />\n&nbsp\;&nbsp\;&nbsp\;&nbsp\;412 W. Lincoln Ave. Fergus Falls<br />\n<strong>11:30&nbsp\; Aflac - Sheri Meis - New Location </strong><br />\n&nbsp\;&nbsp\;&nbsp\;&nbsp\;1008 Frontier Dr.\, Ste 101 Fergus Falls<br />\n&nbsp\;
LOCATION:
UID:e.314.12547
SEQUENCE:3
DTSTAMP:20260424T092533Z
URL:https://business.fergusfalls.com/events/details/chamber-ambassador-visits-10-11-2017-12547
END:VEVENT

END:VCALENDAR
