BEGIN:VCALENDAR
VERSION:2.0
PRODID:-//ChamberMaster//Event Calendar 2.0//EN
METHOD:PUBLISH
X-PUBLISHED-TTL:P3D
REFRESH-INTERVAL:P3D
CALSCALE:GREGORIAN
BEGIN:VEVENT
DTSTART:20171108T160000Z
DTEND:20171108T180000Z
X-MICROSOFT-CDO-ALLDAYEVENT:FALSE
SUMMARY:Chamber Ambassador Visits
DESCRIPTION:Chamber Ambassador Visits\n\n10:00 Anytime Plumbing - New Member\n\n            Chamber Office - 202 S Court St.\n\n10:30 Tysdal Chiropractic - New Location \n\n            402 West Lincoln Avenue\n\n11:00 Ringdahl Ambulance - 50 Year Anniversary \n\n             814 E Junius Avenue\n\n11:30 New Beginnings - Cross Fit 1919 - New Member\n\n            216 W. Cavour Ave.
X-ALT-DESC;FMTTYPE=text/html:<strong>Chamber Ambassador Visits</strong><br />\n<strong>10:00 Anytime Plumbing - New Member</strong><br />\n&nbsp\;&nbsp\;&nbsp\;&nbsp\;&nbsp\;&nbsp\;&nbsp\;&nbsp\;&nbsp\;&nbsp\;&nbsp\;&nbsp\;Chamber Office - 202 S Court St.<br />\n<strong>10:30</strong> <strong>Tysdal Chiropractic</strong> - <strong>New Location&nbsp\;</strong><br />\n&nbsp\;&nbsp\;&nbsp\;&nbsp\;&nbsp\;&nbsp\;&nbsp\;&nbsp\;&nbsp\;&nbsp\;&nbsp\;&nbsp\;402 West Lincoln Avenue<br />\n<strong>11:00 Ringdahl Ambulance - 50 Year Anniversary&nbsp\;</strong><br />\n&nbsp\;&nbsp\;&nbsp\;&nbsp\;&nbsp\;&nbsp\;&nbsp\;&nbsp\;&nbsp\;&nbsp\;&nbsp\;&nbsp\; 814 E Junius Avenue<br />\n<strong>11:30 New Beginnings - Cross Fit 1919 - New Member</strong><br />\n&nbsp\;&nbsp\;&nbsp\;&nbsp\;&nbsp\;&nbsp\;&nbsp\;&nbsp\;&nbsp\;&nbsp\;&nbsp\;&nbsp\;216 W. Cavour Ave.<br />\n<br />\n&nbsp\;
LOCATION:
UID:e.314.12548
SEQUENCE:3
DTSTAMP:20260424T073928Z
URL:https://business.fergusfalls.com/events/details/chamber-ambassador-visits-11-08-2017-12548
END:VEVENT

END:VCALENDAR
