BEGIN:VCALENDAR
VERSION:2.0
PRODID:-//ChamberMaster//Event Calendar 2.0//EN
METHOD:PUBLISH
X-PUBLISHED-TTL:P3D
REFRESH-INTERVAL:P3D
CALSCALE:GREGORIAN
BEGIN:VEVENT
DTSTART:20191113T160000Z
DTEND:20191113T180000Z
X-MICROSOFT-CDO-ALLDAYEVENT:FALSE
SUMMARY:Chamber Ambassador Visits
DESCRIPTION:Chamber Ambassador Visits\n\n	10:00 Otter Cove Children's Museum - New Member (use front door)\n	10:30 Ultimate Auto Safety - New Member\n	11:00 Greater Fergus Falls - New Location\n	11:30 Cenex Zip Trip - New Member
X-ALT-DESC;FMTTYPE=text/html:<strong>Chamber Ambassador Visits</strong>\n<ul>\n	<li><strong>10:00</strong> Otter Cove Children&#39\;s Museum - New Member (use front door)</li>\n	<li><strong>10:30 </strong>Ultimate Auto Safety - New Member</li>\n	<li><strong>11:00 </strong>Greater Fergus Falls - New Location</li>\n	<li><strong>11:30 </strong>Cenex Zip Trip - New Member</li>\n</ul>\n
LOCATION:
UID:e.314.12572
SEQUENCE:3
DTSTAMP:20260422T190219Z
URL:https://business.fergusfalls.com/events/details/chamber-ambassador-visits-11-13-2019-12572
END:VEVENT

END:VCALENDAR
