BEGIN:VCALENDAR
VERSION:2.0
PRODID:-//ChamberMaster//Event Calendar 2.0//EN
METHOD:PUBLISH
X-PUBLISHED-TTL:P3D
REFRESH-INTERVAL:P3D
CALSCALE:GREGORIAN
BEGIN:VEVENT
DTSTART:20151209T160000Z
DTEND:20151209T180000Z
X-MICROSOFT-CDO-ALLDAYEVENT:FALSE
SUMMARY:Chamber Ambassador Visits
DESCRIPTION:Chamber Ambassador Visits\n\n\n\n10:00am  Smith & Sem\, Ltd. - New Partnership\n\n125 North Union\n\n\n10:30 - Jeremy Petrick Photography - New Member / New Business/ New Location \n\n108 S Court St\n\n\n\n11:00am Vector Windows - 20th Anniversary\n\n1020 International Drive\n\n\n\n11:30 Cline Larson Jensen PA -  New Partner\, New Name \n\n125 S. Mill
X-ALT-DESC;FMTTYPE=text/html:<strong>Chamber Ambassador Visits</strong><br />\n<br />\n<strong>10:00am </strong><em><a class="memList" href="javascript:hilite(6)\;parent.handleMemListClick(131\, 'Smith &amp\; Sem\, Ltd.'\, '#000000')\;" style="color: rgb(0\, 0\, 0)\;">&nbsp\;<strong>Smith &amp\; Sem\, Ltd.</strong></a><strong> - New Partnership</strong></em>\n\n<div class="mn-address1" itemprop="streetAddress">125 North Union</div>\n<br />\n<strong>10:30 </strong>- <strong><em><u>Jeremy Petrick Photography - New Member / New Business/ New Location </u></em></strong>\n\n<div class="ellipsis _50f3" data-hover="tooltip" id="u_0_2o">108 S Court St</div>\n\n<div class="ellipsis _50f8 _50f3"><meta content="56537" itemprop="postalCode"><br />\n<strong>11:00am</strong> <u><strong><em>Vector Windows - 20th Anniversary</em></strong></u></div>\n\n<div class="mn-address1" itemprop="streetAddress">1020 International Drive<br />\n<br />\n<strong>11:30 <em><u>Cline Larson Jensen PA -&nbsp\;&nbsp\;</u>New Partner\, New Name </em></strong>\n\n<div class="mn-address1" itemprop="streetAddress">125 S. Mill</div>\n\n<div class="mn-citystatezip">&nbsp\;</div>\n</div>\n\n<div class="mn-citystatezip">&nbsp\;</div>\n<br />\n<br />\n<br />\n&nbsp\;
LOCATION:
UID:e.314.12525
SEQUENCE:3
DTSTAMP:20260426T011308Z
URL:https://business.fergusfalls.com/events/details/chamber-ambassador-visits-12-09-2015-12525
END:VEVENT

END:VCALENDAR
