BEGIN:VCALENDAR
VERSION:2.0
PRODID:-//ChamberMaster//Event Calendar 2.0//EN
METHOD:PUBLISH
X-PUBLISHED-TTL:P3D
REFRESH-INTERVAL:P3D
CALSCALE:GREGORIAN
BEGIN:VEVENT
DTSTART:20191211T160000Z
DTEND:20191211T180000Z
X-MICROSOFT-CDO-ALLDAYEVENT:FALSE
SUMMARY:Chamber Ambassador Visits
DESCRIPTION:Chamber Ambassador Visits\n\n\n\n10:00 - Otter Tail Telcom/Park Region Telephone - 20th Anniversary\n\n            230 West Lincoln Ave\n\n10:30 - COWORK Fergus Falls - New Member\n\n            111 W Lincoln Ave.  Studio B\n\n11:00 - Tangles to Treasures - New Member\n\n            202 W Lincoln Ave\n\n11:30 - Joanne New Age Inc. - New Member    \n\n            643 W Fir Ave
X-ALT-DESC;FMTTYPE=text/html:<strong><span style="font-size: 16px\;">Chamber Ambassador Visits</span><br />\n<br />\n10:00 - Otter Tail Telcom/Park Region Telephone - 20th Anniversary</strong><br />\n&nbsp\;&nbsp\;&nbsp\;&nbsp\;&nbsp\;&nbsp\;&nbsp\;&nbsp\;&nbsp\;&nbsp\;&nbsp\;&nbsp\;230 West Lincoln Ave<br />\n<strong>10:30 - COWORK Fergus Falls - New Member</strong><br />\n&nbsp\;&nbsp\;&nbsp\;&nbsp\;&nbsp\;&nbsp\;&nbsp\;&nbsp\;&nbsp\;&nbsp\;&nbsp\;&nbsp\;111 W Lincoln Ave.&nbsp\; Studio B<br />\n<strong>11:00 - Tangles to Treasures - New Member</strong><br />\n&nbsp\;&nbsp\;&nbsp\;&nbsp\;&nbsp\;&nbsp\;&nbsp\;&nbsp\;&nbsp\;&nbsp\;&nbsp\;&nbsp\;202 W Lincoln Ave<br />\n<strong>11:30 - Joanne New Age Inc. - New Member&nbsp\;</strong>&nbsp\;&nbsp\;&nbsp\;<br />\n&nbsp\;&nbsp\;&nbsp\;&nbsp\;&nbsp\;&nbsp\;&nbsp\;&nbsp\;&nbsp\;&nbsp\;&nbsp\;&nbsp\;643 W Fir Ave<br />\n&nbsp\;&nbsp\;&nbsp\;&nbsp\;&nbsp\;&nbsp\;&nbsp\;&nbsp\;&nbsp\;&nbsp\;&nbsp\;&nbsp\;<br />\n&nbsp\;
LOCATION:
UID:e.314.12573
SEQUENCE:3
DTSTAMP:20260422T172234Z
URL:https://business.fergusfalls.com/events/details/chamber-ambassador-visits-12-11-2019-12573
END:VEVENT

END:VCALENDAR
