BEGIN:VCALENDAR
VERSION:2.0
PRODID:-//ChamberMaster//Event Calendar 2.0//EN
METHOD:PUBLISH
X-PUBLISHED-TTL:P3D
REFRESH-INTERVAL:P3D
CALSCALE:GREGORIAN
BEGIN:VEVENT
DTSTART:20181212T160000Z
DTEND:20181212T180000Z
X-MICROSOFT-CDO-ALLDAYEVENT:FALSE
SUMMARY:Chamber Ambassador Visits
DESCRIPTION:Chamber Ambassador Visits\n\n\n\n10:00 - Fergus Fish & Game Club - New Member\n\n            Chamber Office - 202 S. Court St. \n\n10:30 - THE bric - Expansion \n\n            215 W. Lincoln Ave.\n\n11:00 - Someplace Safe - 40th Anniversary\n            1402 E Bancroft Ave (Behind the Salvation Army Thrift Store   Off of Pebble Lake Road and Peck Street)
X-ALT-DESC;FMTTYPE=text/html:<span style="font-size: 12px\;"><span style="font-family: verdana\;"><strong>Chamber Ambassador Visits</strong><br />\n<br />\n<strong>10:00 - Fergus Fish &amp\; Game Club - New Member</strong><br />\n&nbsp\;&nbsp\;&nbsp\;&nbsp\;&nbsp\;&nbsp\;&nbsp\;&nbsp\;&nbsp\; &nbsp\; Chamber Office - 202 S. Court St.&nbsp\;<br />\n<strong>10:30</strong> - <strong>THE bric - Expansion </strong><br />\n&nbsp\;&nbsp\;&nbsp\;&nbsp\;&nbsp\;&nbsp\;&nbsp\;&nbsp\;&nbsp\;&nbsp\;&nbsp\;&nbsp\;215 W. Lincoln Ave.<br />\n<strong>11:00</strong> - <strong>Someplace Safe - 40th Anniversary</strong></span></span>\n<p style="margin: 0in 0in 0pt\;"><span style="font-size: 12px\;"><span style="font-family: verdana\;">&nbsp\;&nbsp\;&nbsp\;&nbsp\;&nbsp\;&nbsp\;&nbsp\;&nbsp\;&nbsp\;&nbsp\;&nbsp\;&nbsp\;<span style="background: white\; color: rgb(34\, 34\, 34)\;">1402 E Bancroft Ave<span style="font-size: 10px\;"><em> (</em></span><span style="font-size: 12px\;"><span style="font-family: verdana\;"><span style="font-size: 10px\;"><em><span style="background: white\; color: rgb(34\, 34\, 34)\;">Behind the Salvation Army Thrift Store &ndash\; Off of Pebble Lake Road and Peck Street)</span></em></span></span></span></span></span></span></p>\n
LOCATION:
UID:e.314.12561
SEQUENCE:3
DTSTAMP:20260423T122235Z
URL:https://business.fergusfalls.com/events/details/chamber-ambassador-visits-12-12-2018-12561
END:VEVENT

END:VCALENDAR
