BEGIN:VCALENDAR
VERSION:2.0
PRODID:-//ChamberMaster//Event Calendar 2.0//EN
METHOD:PUBLISH
X-PUBLISHED-TTL:P3D
REFRESH-INTERVAL:P3D
CALSCALE:GREGORIAN
BEGIN:VEVENT
DTSTART:20161214T160000Z
DTEND:20161214T180000Z
X-MICROSOFT-CDO-ALLDAYEVENT:FALSE
SUMMARY:Chamber Ambassador Visits
DESCRIPTION:Chamber Ambassador Visits\n\n10:00    Stumbeano's Coffee - New Location - \n\n              1221 N. Union Ave.\n\n10:30    Fergus Falls Downtown River Council * New Member\n\n               202 S Court - Chamber Office\n\n11:00    Otter Tail Telcom/Park Region Telephone * 110 Year Anniversary\n\n            230 West Lincoln Ave\n\n11:30 ServPro - New Member\n\n            202 S. Court St. * Chamber Office
X-ALT-DESC;FMTTYPE=text/html:<strong>Chamber Ambassador Visits</strong><br />\n<strong>10:00</strong>&nbsp\;&nbsp\;&nbsp\;&nbsp\;<strong>Stumbeano&#39\;s Coffee - New Location -&nbsp\;</strong><br />\n&nbsp\;&nbsp\;&nbsp\;&nbsp\;&nbsp\;&nbsp\;&nbsp\;&nbsp\;&nbsp\;&nbsp\;&nbsp\;&nbsp\;&nbsp\;&nbsp\;1221 N. Union Ave.<br />\n<strong>10:30</strong>&nbsp\;&nbsp\;&nbsp\;&nbsp\;<strong>Fergus Falls Downtown River Council * New Member</strong><br />\n&nbsp\;&nbsp\;&nbsp\;&nbsp\;&nbsp\;&nbsp\;&nbsp\;&nbsp\;&nbsp\;&nbsp\;&nbsp\;&nbsp\;&nbsp\;&nbsp\;&nbsp\;202 S Court - Chamber Office<br />\n<strong>11:00&nbsp\;</strong>&nbsp\;&nbsp\;&nbsp\;<strong>Otter Tail Telcom/Park Region Telephone * 110 Year Anniversary</strong><br />\n&nbsp\;&nbsp\;&nbsp\;&nbsp\;&nbsp\;&nbsp\;&nbsp\;&nbsp\;&nbsp\;&nbsp\;&nbsp\;&nbsp\;230 West Lincoln Ave<br />\n<strong>11:30 ServPro - New Member</strong><br />\n&nbsp\;&nbsp\;&nbsp\;&nbsp\;&nbsp\;&nbsp\;&nbsp\;&nbsp\;&nbsp\;&nbsp\;&nbsp\;&nbsp\;202 S. Court St.&nbsp\;* Chamber Office<br />\n&nbsp\;&nbsp\;&nbsp\;&nbsp\;
LOCATION:
UID:e.314.12537
SEQUENCE:3
DTSTAMP:20260425T022030Z
URL:https://business.fergusfalls.com/events/details/chamber-ambassador-visits-12-14-2016-12537
END:VEVENT

END:VCALENDAR
