BEGIN:VCALENDAR
VERSION:2.0
PRODID:-//ChamberMaster//Event Calendar 2.0//EN
METHOD:PUBLISH
X-PUBLISHED-TTL:P3D
REFRESH-INTERVAL:P3D
CALSCALE:GREGORIAN
BEGIN:VEVENT
DTSTART:20200408T150000Z
DTEND:20200408T170000Z
X-MICROSOFT-CDO-ALLDAYEVENT:FALSE
SUMMARY:Chamber Ambassador Visits - April 2020 -- POSTPONED
DESCRIPTION:Chamber Ambassador Visits\n\n10:00am - ICON Business Advantage (at Chamber office) - New Member\n\n10:30am - Welander Jewelers - 80+ Years \n\n                114 E Lincoln Ave.\n\n11:00am - Sign Guys - New Member     \n\n                126 S Vine St.
X-ALT-DESC;FMTTYPE=text/html:<strong>Chamber Ambassador Visits</strong><br />\n<strong>10:00am</strong> - <strong>ICON Business Advantage</strong> (at Chamber office) - New Member<br />\n<strong>10:30am </strong>- <strong>Welander Jewelers - 80+ Years </strong><br />\n&nbsp\;&nbsp\;&nbsp\;&nbsp\;&nbsp\;&nbsp\;&nbsp\;&nbsp\;&nbsp\;&nbsp\;&nbsp\;&nbsp\;&nbsp\;&nbsp\;&nbsp\;&nbsp\;114 E Lincoln Ave.<br />\n<strong>11:00am - Sign Guys - New Member </strong>&nbsp\;&nbsp\;&nbsp\;&nbsp\;<br />\n&nbsp\;&nbsp\;&nbsp\;&nbsp\;&nbsp\;&nbsp\;&nbsp\;&nbsp\;&nbsp\;&nbsp\;&nbsp\;&nbsp\;&nbsp\;&nbsp\;&nbsp\;&nbsp\;126 S Vine St.<br />\n&nbsp\;
LOCATION:
UID:e.314.12577
SEQUENCE:3
DTSTAMP:20260422T112539Z
URL:https://business.fergusfalls.com/events/details/chamber-ambassador-visits-april-2020-postponed-12577
END:VEVENT

END:VCALENDAR
