BEGIN:VCALENDAR
VERSION:2.0
PRODID:-//ChamberMaster//Event Calendar 2.0//EN
METHOD:PUBLISH
X-PUBLISHED-TTL:P3D
REFRESH-INTERVAL:P3D
CALSCALE:GREGORIAN
BEGIN:VEVENT
DTSTART:20200311T150000Z
DTEND:20200311T170000Z
X-MICROSOFT-CDO-ALLDAYEVENT:FALSE
SUMMARY:Chamber Ambassador Visits - March 2020
DESCRIPTION:10:00 - West Central Initiative - Remodel \n\n            1000 Western Ave\n\n10:30 - Jessica Lopez - Farmers Insurance - Ribbon Cutting - New Business\, New Member\n\n            1105 W Lincoln Ave\n\n11:00 - NorthStar Behavioral Health - New Member\n\n            1174 Western Avenue\n\n11:30 - Fox Consulting Services - New Member\n\n            202 S Court St  (Chamber Office)
X-ALT-DESC;FMTTYPE=text/html:<strong>10:00 - West Central Initiative - Remodel&nbsp\;</strong><br />\n&nbsp\;&nbsp\;&nbsp\;&nbsp\;&nbsp\;&nbsp\;&nbsp\;&nbsp\;&nbsp\;&nbsp\;&nbsp\;&nbsp\;1000 Western Ave<br />\n<strong>10:30 - Jessica Lopez - Farmers Insurance - Ribbon Cutting - New Business\, New Member</strong><br />\n&nbsp\;&nbsp\;&nbsp\;&nbsp\;&nbsp\;&nbsp\;&nbsp\;&nbsp\;&nbsp\;&nbsp\;&nbsp\;&nbsp\;1105 W Lincoln Ave<br />\n<strong>11:00 - NorthStar Behavioral Health - New Member</strong><br />\n&nbsp\;&nbsp\;&nbsp\;&nbsp\;&nbsp\;&nbsp\;&nbsp\;&nbsp\;&nbsp\;&nbsp\;&nbsp\;&nbsp\;1174 Western Avenue<br />\n<strong>11:30 - Fox Consulting Services - New Member</strong><br />\n&nbsp\;&nbsp\;&nbsp\;&nbsp\;&nbsp\;&nbsp\;&nbsp\;&nbsp\;&nbsp\;&nbsp\;&nbsp\;&nbsp\;202 S Court St&nbsp\; (Chamber Office)
LOCATION:West Central Initiative - 1000 Western Ave Jessica Lopez - Farmers Insurance - 1105 W Lincoln Ave NorthStar Behavioral Health - 1174 Western Avenue Fox Consulting Services - 202 S Court St (Chamber Office)
UID:e.314.12576
SEQUENCE:3
DTSTAMP:20260422T125805Z
URL:https://business.fergusfalls.com/events/details/chamber-ambassador-visits-march-2020-12576
END:VEVENT

END:VCALENDAR
