BEGIN:VCALENDAR
VERSION:2.0
PRODID:-//ChamberMaster//Event Calendar 2.0//EN
METHOD:PUBLISH
X-PUBLISHED-TTL:P3D
REFRESH-INTERVAL:P3D
CALSCALE:GREGORIAN
BEGIN:VEVENT
DTSTART:20180926T163000Z
DTEND:20180926T180000Z
X-MICROSOFT-CDO-ALLDAYEVENT:FALSE
SUMMARY:Chamber Board of Directors Meeting
DESCRIPTION:Wednesday\, May 23\n			West Central Initiative\n			Lunch Provided\n			Sandy King\n		\n		\n			Wednesday\, June 27\n			 \n			 \n			 \n		\n		\n			Wednesday\, July 25\n			 \n			 \n			 \n		\n		\n			Wednesday\, August 22\n			PioneerCare\n			Lunch Provided\n			Steve Guttormson\n		\n		\n			Wednesday\, September 26\n			Quality Toyota\n			Lunch Provided\n			Dan Karst\n		\n		\n			Tuesday\, October 23\n			Bigwood Event Center\n			TASTE of Fergus Falls\n			Bigwood Event Center
X-ALT-DESC;FMTTYPE=text/html:<table border="0" cellpadding="0" cellspacing="0" style="width:722px\;margin-left:16.75pt\;border-collapse:collapse\;" width="722">\n	<tbody>\n		<tr style="height:20px\;">\n			<td nowrap="nowrap" style="width:176px\;border:solid windowtext 1.0pt\;border-top:none\;padding:0in 5.4pt 0in 5.4pt\;height:20px\;"><span style="color:black\;"><span style="font-family:calibri\,sans-serif\;"><span style="font-size:11.0pt\;">Wednesday\, May 23</span></span></span></td>\n			<td nowrap="nowrap" style="width:220px\;border-top:none\;border-left:none\;border-bottom:solid windowtext 1.0pt\;border-right:solid windowtext 1.0pt\;padding:0in 5.4pt 0in 5.4pt\;height:20px\;vertical-align:bottom\;"><span style="color:black\;"><span style="font-family:calibri\,sans-serif\;"><span style="font-size:11.0pt\;">West Central Initiative</span></span></span></td>\n			<td nowrap="nowrap" style="width:161px\;border-top:none\;border-left:none\;border-bottom:solid windowtext 1.0pt\;border-right:solid windowtext 1.0pt\;padding:0in 5.4pt 0in 5.4pt\;height:20px\;vertical-align:bottom\;"><span style="color:black\;"><span style="font-family:calibri\,sans-serif\;"><span style="font-size:11.0pt\;">Lunch Provided</span></span></span></td>\n			<td nowrap="nowrap" style="width:164px\;border-top:none\;border-left:none\;border-bottom:solid windowtext 1.0pt\;border-right:solid windowtext 1.0pt\;padding:0in 5.4pt 0in 5.4pt\;height:20px\;vertical-align:bottom\;"><span style="color:black\;"><span style="font-family:calibri\,sans-serif\;"><span style="font-size:11.0pt\;">Sandy King</span></span></span></td>\n		</tr>\n		<tr style="height:20px\;">\n			<td nowrap="nowrap" style="width:176px\;border:solid windowtext 1.0pt\;border-top:none\;padding:0in 5.4pt 0in 5.4pt\;height:20px\;"><span style="color:black\;"><span style="font-family:calibri\,sans-serif\;"><span style="font-size:11.0pt\;">Wednesday\, June 27</span></span></span></td>\n			<td nowrap="nowrap" style="width:220px\;border-top:none\;border-left:none\;border-bottom:solid windowtext 1.0pt\;border-right:solid windowtext 1.0pt\;padding:0in 5.4pt 0in 5.4pt\;height:20px\;vertical-align:bottom\;">&nbsp\;</td>\n			<td nowrap="nowrap" style="width:161px\;border-top:none\;border-left:none\;border-bottom:solid windowtext 1.0pt\;border-right:solid windowtext 1.0pt\;padding:0in 5.4pt 0in 5.4pt\;height:20px\;vertical-align:bottom\;">&nbsp\;</td>\n			<td nowrap="nowrap" style="width:164px\;border-top:none\;border-left:none\;border-bottom:solid windowtext 1.0pt\;border-right:solid windowtext 1.0pt\;padding:0in 5.4pt 0in 5.4pt\;height:20px\;vertical-align:bottom\;">&nbsp\;</td>\n		</tr>\n		<tr style="height:20px\;">\n			<td nowrap="nowrap" style="width:176px\;border:solid windowtext 1.0pt\;border-top:none\;padding:0in 5.4pt 0in 5.4pt\;height:20px\;"><span style="color:black\;"><span style="font-family:calibri\,sans-serif\;"><span style="font-size:11.0pt\;">Wednesday\, July 25</span></span></span></td>\n			<td nowrap="nowrap" style="width:220px\;border-top:none\;border-left:none\;border-bottom:solid windowtext 1.0pt\;border-right:solid windowtext 1.0pt\;padding:0in 5.4pt 0in 5.4pt\;height:20px\;vertical-align:bottom\;">&nbsp\;</td>\n			<td nowrap="nowrap" style="width:161px\;border-top:none\;border-left:none\;border-bottom:solid windowtext 1.0pt\;border-right:solid windowtext 1.0pt\;padding:0in 5.4pt 0in 5.4pt\;height:20px\;vertical-align:bottom\;">&nbsp\;</td>\n			<td nowrap="nowrap" style="width:164px\;border-top:none\;border-left:none\;border-bottom:solid windowtext 1.0pt\;border-right:solid windowtext 1.0pt\;padding:0in 5.4pt 0in 5.4pt\;height:20px\;vertical-align:bottom\;">&nbsp\;</td>\n		</tr>\n		<tr style="height:20px\;">\n			<td nowrap="nowrap" style="width:176px\;border:solid windowtext 1.0pt\;border-top:none\;padding:0in 5.4pt 0in 5.4pt\;height:20px\;"><span style="color:black\;"><span style="font-family:calibri\,sans-serif\;"><span style="font-size:11.0pt\;">Wednesday\, August 22</span></span></span></td>\n			<td nowrap="nowrap" style="width:220px\;border-top:none\;border-left:none\;border-bottom:solid windowtext 1.0pt\;border-right:solid windowtext 1.0pt\;padding:0in 5.4pt 0in 5.4pt\;height:20px\;vertical-align:bottom\;"><span style="color:black\;"><span style="font-family:calibri\,sans-serif\;"><span style="font-size:11.0pt\;">PioneerCare</span></span></span></td>\n			<td nowrap="nowrap" style="width:161px\;border-top:none\;border-left:none\;border-bottom:solid windowtext 1.0pt\;border-right:solid windowtext 1.0pt\;padding:0in 5.4pt 0in 5.4pt\;height:20px\;vertical-align:bottom\;"><span style="color:black\;"><span style="font-family:calibri\,sans-serif\;"><span style="font-size:11.0pt\;">Lunch Provided</span></span></span></td>\n			<td nowrap="nowrap" style="width:164px\;border-top:none\;border-left:none\;border-bottom:solid windowtext 1.0pt\;border-right:solid windowtext 1.0pt\;padding:0in 5.4pt 0in 5.4pt\;height:20px\;vertical-align:bottom\;"><span style="color:black\;"><span style="font-family:calibri\,sans-serif\;"><span style="font-size:11.0pt\;">Steve Guttormson</span></span></span></td>\n		</tr>\n		<tr style="height:20px\;">\n			<td nowrap="nowrap" style="width:176px\;border:solid windowtext 1.0pt\;border-top:none\;padding:0in 5.4pt 0in 5.4pt\;height:20px\;"><span style="color:black\;"><span style="font-family:calibri\,sans-serif\;"><span style="font-size:11.0pt\;">Wednesday\, September 26</span></span></span></td>\n			<td nowrap="nowrap" style="width:220px\;border-top:none\;border-left:none\;border-bottom:solid windowtext 1.0pt\;border-right:solid windowtext 1.0pt\;padding:0in 5.4pt 0in 5.4pt\;height:20px\;vertical-align:bottom\;"><span style="color:black\;"><span style="font-family:calibri\,sans-serif\;"><span style="font-size:11.0pt\;">Quality Toyota</span></span></span></td>\n			<td nowrap="nowrap" style="width:161px\;border-top:none\;border-left:none\;border-bottom:solid windowtext 1.0pt\;border-right:solid windowtext 1.0pt\;padding:0in 5.4pt 0in 5.4pt\;height:20px\;vertical-align:bottom\;"><span style="color:black\;"><span style="font-family:calibri\,sans-serif\;"><span style="font-size:11.0pt\;">Lunch Provided</span></span></span></td>\n			<td nowrap="nowrap" style="width:164px\;border-top:none\;border-left:none\;border-bottom:solid windowtext 1.0pt\;border-right:solid windowtext 1.0pt\;padding:0in 5.4pt 0in 5.4pt\;height:20px\;vertical-align:bottom\;"><span style="color:black\;"><span style="font-family:calibri\,sans-serif\;"><span style="font-size:11.0pt\;">Dan Karst</span></span></span></td>\n		</tr>\n		<tr style="height:20px\;">\n			<td nowrap="nowrap" style="width:176px\;border:solid windowtext 1.0pt\;border-top:none\;padding:0in 5.4pt 0in 5.4pt\;height:20px\;"><span style="color:black\;"><span style="font-family:calibri\,sans-serif\;"><span style="font-size:11.0pt\;">Tuesday\, October 23</span></span></span></td>\n			<td nowrap="nowrap" style="width:220px\;border-top:none\;border-left:none\;border-bottom:solid windowtext 1.0pt\;border-right:solid windowtext 1.0pt\;padding:0in 5.4pt 0in 5.4pt\;height:20px\;vertical-align:bottom\;"><span style="color:black\;"><span style="font-family:calibri\,sans-serif\;"><span style="font-size:11.0pt\;">Bigwood Event Center</span></span></span></td>\n			<td nowrap="nowrap" style="width:161px\;border-top:none\;border-left:none\;border-bottom:solid windowtext 1.0pt\;border-right:solid windowtext 1.0pt\;padding:0in 5.4pt 0in 5.4pt\;height:20px\;vertical-align:bottom\;"><span style="color:black\;"><span style="font-family:calibri\,sans-serif\;"><span style="font-size:11.0pt\;">TASTE of Fergus Falls</span></span></span></td>\n			<td nowrap="nowrap" style="width:164px\;border-top:none\;border-left:none\;border-bottom:solid windowtext 1.0pt\;border-right:solid windowtext 1.0pt\;padding:0in 5.4pt 0in 5.4pt\;height:20px\;vertical-align:bottom\;"><span style="color:black\;"><span style="font-family:calibri\,sans-serif\;"><span style="font-size:11.0pt\;">Bigwood Event Center</span></span></span></td>\n		</tr>\n	</tbody>\n</table>\n
LOCATION:location varies until post-construction
UID:e.314.48874
SEQUENCE:3
DTSTAMP:20260423T165817Z
URL:https://business.fergusfalls.com/events/details/chamber-board-of-directors-meeting-09-26-2018-48874
END:VEVENT

END:VCALENDAR
