BEGIN:VCALENDAR
VERSION:2.0
PRODID:-//ChamberMaster//Event Calendar 2.0//EN
METHOD:PUBLISH
X-PUBLISHED-TTL:P3D
REFRESH-INTERVAL:P3D
CALSCALE:GREGORIAN
BEGIN:VEVENT
DTSTART:20170112T203000Z
DTEND:20170112T213000Z
X-MICROSOFT-CDO-ALLDAYEVENT:FALSE
SUMMARY:Chamber Building Task Force Meeting
DESCRIPTION:Chamber Building Task Force Meeting\n\nAgenda to include:\n\n    Game Plan/Process\n\n    Priorities\n\n    Timeline\n\n    Create 3 Working Groups: Facility\, Funding & Communication\n\n\n\nAll Chamber members are encouraged to provide input/feedback on the Chamber building's renovation via email: lworkman@fergusfalls.com
X-ALT-DESC;FMTTYPE=text/html:Chamber Building Task Force Meeting<br />\nAgenda to include:<br />\n&nbsp\; &nbsp\; Game Plan/Process<br />\n&nbsp\; &nbsp\; Priorities<br />\n&nbsp\; &nbsp\; Timeline<br />\n&nbsp\; &nbsp\; Create 3 Working Groups: Facility\, Funding &amp\; Communication<br />\n<br />\nAll Chamber members are encouraged to provide input/feedback on the Chamber building&#39\;s renovation via email: lworkman@fergusfalls.com
LOCATION:Chamber office\, lower level 202 S. Court St. Fergus Falls\, MN
UID:e.314.37251
SEQUENCE:3
DTSTAMP:20260425T002650Z
URL:https://business.fergusfalls.com/events/details/chamber-building-task-force-meeting-37251
END:VEVENT

END:VCALENDAR
