BEGIN:VCALENDAR
VERSION:2.0
PRODID:-//ChamberMaster//Event Calendar 2.0//EN
METHOD:PUBLISH
X-PUBLISHED-TTL:P3D
REFRESH-INTERVAL:P3D
CALSCALE:GREGORIAN
BEGIN:VEVENT
DTSTART:20151203T220000Z
DTEND:20151204T000000Z
X-MICROSOFT-CDO-ALLDAYEVENT:FALSE
SUMMARY:Chamber Business After Hours at Ameriprise Financial
DESCRIPTION:Stop by and connect with other Chamber members and folks in the community for our Chamber Business After Hours event. Appetizers and refreshments will be served. Register to win Fergus Bucks.
X-ALT-DESC;FMTTYPE=text/html:Stop by and connect with other Chamber members and folks in the community for our Chamber Business After Hours event. Appetizers and refreshments will be served. Register to win Fergus Bucks.
LOCATION:111 East Lincoln Ave Downtown Fergus Falls
UID:e.314.26466
SEQUENCE:3
DTSTAMP:20260425T233947Z
URL:https://business.fergusfalls.com/events/details/chamber-business-after-hours-at-ameriprise-financial-12-03-2015-26466
END:VEVENT

END:VCALENDAR
