BEGIN:VCALENDAR
VERSION:2.0
PRODID:-//ChamberMaster//Event Calendar 2.0//EN
METHOD:PUBLISH
X-PUBLISHED-TTL:P3D
REFRESH-INTERVAL:P3D
CALSCALE:GREGORIAN
BEGIN:VEVENT
DTSTART:20191114T133000Z
DTEND:20191114T150000Z
X-MICROSOFT-CDO-ALLDAYEVENT:FALSE
SUMMARY:Chamber Cafe @ American National Bank of MN
DESCRIPTION:"Chamber Cafe" is a bi-monthly casual gathering where you will find out what's going on "behind the scenes" in the community.  Enjoy refreshments & networking. At the end\, one member's name will be drawn for "Half the Cash" -must be present to win. If you like being "in the know" then this is an event you'll want to go. A delicious light breakfast will be served.  Hosted by American National Bank of MN.  For just $5 Chamber members ($10 general public)\, you will hear brief updates from speakers.\n\n	Hosts: American National Bank of MN\n	Leighton Broadcasting\, Kelli Frieler\n	Otter Tail County\, Amy Baldwin\n	Fergus Falls School District\, Jeff Drake\n	JK Sports\, Michelle Klinnert\n	Fergus Falls Concert Association\, Jeanne Jensen\n	Greater Fergus Falls\, Annie Deckert\n	Mahube-OTWA Community Action\, Lisa Lipari & Jamie Stollenwerk\n	A Center for the Arts\, Michael Burgraff\n	Fergus Falls Downtown Riverfront Council\, Steve Eriksson\n	LB Homes\, Missy Klemin \n	Ameriprise Financial\, Emma Thompson & Chris Swanson\n	A Place to Belong\, Paige Carlson\n	COWORK Fergus Falls\, Jaime Price Anderson
X-ALT-DESC;FMTTYPE=text/html:<span style="font-family: arial\;"><span style="color: rgb(0\, 0\, 0)\;"><strong>&quot\;Chamber Cafe&quot\; </strong>is a bi-monthly casual gathering where you will find out what&#39\;s going on &quot\;behind the scenes&quot\;&nbsp\;in the community.&nbsp\; Enjoy refreshments &amp\; networking. At the end\, one member&#39\;s name will be drawn for &quot\;Half the Cash&quot\; -must be present to win.&nbsp\;If you like being &quot\;in the know&quot\; then this is an event you&#39\;ll want to go. A delicious light breakfast will be served.&nbsp\; </span><span style="color: rgb(0\, 0\, 255)\;"><em>Hosted by American National Bank of MN.&nbsp\;&nbsp\;</em></span><span style="color: rgb(0\, 0\, 0)\;">For just $5 Chamber members ($10 general public)\, you&nbsp\;will hear brief updates from speakers.</span></span>\n<ul>\n	<li><span style="font-size: 12px\;"><span style="font-family: arial\;"><span style="color: rgb(0\, 0\, 0)\;">Hosts: American National Bank of MN</span></span></span></li>\n	<li><span style="font-size: 12px\;"><span style="font-family: arial\;"><span style="color: rgb(0\, 0\, 0)\;">Leighton Broadcasting\, Kelli Frieler</span></span></span></li>\n	<li><span style="font-size: 12px\;"><span style="font-family: arial\;"><span style="color: rgb(0\, 0\, 0)\;">Otter Tail County\, Amy Baldwin</span></span></span></li>\n	<li><span style="font-size: 12px\;"><span style="font-family: arial\;"><span style="color: rgb(0\, 0\, 0)\;">Fergus Falls School District\, Jeff Drake</span></span></span></li>\n	<li><span style="font-size: 12px\;"><span style="font-family: arial\;"><font color="#000000">JK Sports\, Michelle Klinnert</font></span></span></li>\n	<li><span style="font-size: 12px\;"><span style="font-family: arial\;"><span style="color: rgb(0\, 0\, 0)\;">Fergus Falls Concert Association\, Jeanne Jensen</span></span></span></li>\n	<li><span style="font-size: 12px\;"><span style="font-family: arial\;"><span style="color: rgb(0\, 0\, 0)\;">Greater Fergus Falls\, Annie Deckert</span></span></span></li>\n	<li><span style="font-size: 12px\;"><span style="font-family: arial\;"><span style="color: rgb(0\, 0\, 0)\;">Mahube-OTWA Community Action\, Lisa Lipari &amp\; Jamie Stollenwerk</span></span></span></li>\n	<li><span style="font-size: 12px\;"><span style="font-family: arial\;"><span style="color: rgb(0\, 0\, 0)\;">A Center for the Arts\, Michael Burgraff</span></span></span></li>\n	<li><span style="font-size: 12px\;"><span style="font-family: arial\;"><span style="mso-fareast-font-family: Calibri\; mso-fareast-theme-font: minor-latin\; mso-ansi-language: EN-US\; mso-fareast-language: EN-US\; mso-bidi-language: AR-SA\;"><font color="#000000">Fergus Falls Downtown Riverfront Council</font></span><span style="color: rgb(0\, 0\, 0)\;">\, Steve Eriksson</span></span></span></li>\n	<li><span style="font-size: 12px\;"><span style="font-family: arial\;"><span style="color: rgb(0\, 0\, 0)\;">LB Homes\, Missy Klemin </span></span></span></li>\n	<li><span style="font-size: 12px\;"><span style="font-family: arial\;"><span style="color: rgb(0\, 0\, 0)\;">Ameriprise Financial\, Emma Thompson &amp\; Chris Swanson</span></span></span></li>\n	<li><span style="font-size: 12px\;"><span style="font-family: arial\;"><span style="color: rgb(0\, 0\, 0)\;">A Place to Belong\, Paige Carlson</span></span></span></li>\n	<li><span style="font-size: 12px\;"><span style="font-family: arial\;"><span style="color: rgb(0\, 0\, 0)\;">COWORK Fergus Falls\, Jaime Price Anderson</span></span></span></li>\n</ul>\n
LOCATION:American National Bank of MN 727 Western Ave. N. Fergus Falls\, MN 56537
UID:e.314.24271
SEQUENCE:3
DTSTAMP:20260422T190906Z
URL:https://business.fergusfalls.com/events/details/chamber-cafe-american-national-bank-of-mn-11-14-2019-24271
END:VEVENT

END:VCALENDAR
