BEGIN:VCALENDAR
VERSION:2.0
PRODID:-//ChamberMaster//Event Calendar 2.0//EN
METHOD:PUBLISH
X-PUBLISHED-TTL:P3D
REFRESH-INTERVAL:P3D
CALSCALE:GREGORIAN
BEGIN:VEVENT
DTSTART:20180719T123000Z
DTEND:20180719T140000Z
X-MICROSOFT-CDO-ALLDAYEVENT:FALSE
SUMMARY:Chamber Cafe @ American National Bank of MN
DESCRIPTION:"Chamber Cafe" is a bi-monthly casual gathering where you will find out what's going on "behind the scenes" in the community.  Enjoy refreshments & networking. At the end\, BUSINESS CARD will be drawn for "Half the Cash" -must be present to win. If you like being "in the know" then to this event you'll want to go. A delicious light breakfast with favorites from The Fabled Farmer will be served.  Hosted by American National Bank of MN  For just $5 Chamber members ($10 general public)\, you will hear brief updates from speakers.\n\n	Host\,  American National Bank\n	Kevin Johanson & friends\, "The Music Man"\n	Amy Baldwin\, City of Fergus Falls\n	Grant Davenport\, Farmers Union Insurance\n	Corey Eggen\, (WISSOTA 100)  I-94 Speedway\n	Kelli Frieler\, Leighton Broadcasting - WISSOTA "Off Track Action"\n	Tammy Anderson\, Productive Alternatives\n	Heidi Narimani\, Rural Minnesota CEP\n	Seth Simonson\, Precise Sensing LLC\n	Jeanine Thompson\, Someplace Safe\n	Greg Wagner\, Forward Fergus Falls\n	Jennifer Fronning\, Elks\n	Jessica Lopez\, Visionary Inc.\n	Mona LaValley\, Park Gardens\n	Karoline Gustafson\, National Night Out
X-ALT-DESC;FMTTYPE=text/html:<span style="font-family:verdana\;"><span style="color:#000000\;"><span style="font-size: 12px\;"><strong>&quot\;Chamber Cafe&quot\; </strong>is a bi-monthly casual gathering where you will find out what&#39\;s going on &quot\;behind the scenes&quot\;&nbsp\;in the community.&nbsp\; Enjoy refreshments &amp\; networking. At the end\, BUSINESS CARD will be drawn for &quot\;Half the Cash&quot\; -must be present to win.&nbsp\;If you like being &quot\;in the know&quot\; then to this event you&#39\;ll want to go. A delicious light breakfast with favorites from The Fabled Farmer will be served.&nbsp\; <em>Hosted by American National Bank of MN&nbsp\; </em>For just $5 Chamber members ($10 general public)\, you&nbsp\;will hear brief updates from speakers.</span></span></span>\n<ul>\n	<li><span style="font-family:verdana\;"><span style="color:#000000\;">Host\, &nbsp\;American National Bank</span></span></li>\n	<li><span style="font-family:verdana\;"><span style="color:#000000\;">Kevin Johanson &amp\; friends\, &quot\;The Music Man&quot\;</span></span></li>\n	<li><span style="font-family:verdana\;"><span style="color:#000000\;">Amy Baldwin\, City of Fergus Falls</span></span></li>\n	<li><span style="font-family:verdana\;"><span style="color:#000000\;">Grant Davenport\, Farmers Union Insurance</span></span></li>\n	<li><span style="font-family:verdana\;"><span style="color:#000000\;">Corey Eggen\, (WISSOTA 100)&nbsp\; I-94 Speedway</span></span></li>\n	<li><span style="font-family:verdana\;"><span style="color:#000000\;">Kelli Frieler\, Leighton Broadcasting - WISSOTA &quot\;Off Track Action&quot\;</span></span></li>\n	<li><span style="font-family:verdana\;"><span style="color:#000000\;">Tammy Anderson\, Productive Alternatives</span></span></li>\n	<li><span style="font-family:verdana\;"><span style="color:#000000\;">Heidi Narimani\,<span style="font-size: 12px\;">&nbsp\;</span>Rural Minnesota CEP</span></span></li>\n	<li><span style="font-family:verdana\;"><span style="color:#000000\;">Seth Simonson\, Precise Sensing LLC</span></span></li>\n	<li><span style="font-family:verdana\;"><span style="color:#000000\;">Jeanine Thompson\, Someplace Safe</span></span></li>\n	<li><span style="font-family:verdana\;"><span style="color:#000000\;">Greg Wagner\, Forward Fergus Falls</span></span></li>\n	<li><span style="font-family:verdana\;"><span style="color:#000000\;">Jennifer Fronning\, Elks</span></span></li>\n	<li><span style="font-family:verdana\;"><span style="color:#000000\;">Jessica Lopez\, Visionary Inc.</span></span></li>\n	<li><span style="font-family:verdana\;"><span style="color:#000000\;">Mona LaValley\, Park Gardens</span></span></li>\n	<li><span style="font-family:verdana\;"><span style="color:#000000\;">Karoline Gustafson\, National&nbsp\;Night Out </span></span></li>\n</ul>\n
LOCATION:American National Bank of MN 727 Western Ave. N. Fergus Falls\, MN 56537
UID:e.314.24263
SEQUENCE:3
DTSTAMP:20260423T200415Z
URL:https://business.fergusfalls.com/events/details/chamber-cafe-american-national-bank-of-mn-24263
END:VEVENT

END:VCALENDAR
