BEGIN:VCALENDAR
VERSION:2.0
PRODID:-//ChamberMaster//Event Calendar 2.0//EN
METHOD:PUBLISH
X-PUBLISHED-TTL:P3D
REFRESH-INTERVAL:P3D
CALSCALE:GREGORIAN
BEGIN:VEVENT
DTSTART:20170112T133000Z
DTEND:20170112T150000Z
X-MICROSOFT-CDO-ALLDAYEVENT:FALSE
SUMMARY:Chamber Cafe at A Center for the Arts
DESCRIPTION:"Chamber Cafe" is a bi-monthly casual gathering where you will find out what's going on "behind the scenes" in the community.  Enjoy a light breakfast\, coffee & networking. Breakfast catered by Sweet & Savory Kitchen: breakfast sandwiches on homemade buttermilk biscuits (egg\, cheese and either Canadian bacon or our own blend of breakfast sausage)\, along with a mixed fruit salad and juices - and coffee! At the end\, one business card will be drawn for "Half the Cash" (must be present to win\, must bring a business card -- it is a Chamber event after all). Plus\, we'll be giving away: A pair of tickets to the "Harmonious Wall" concert on January 20 at A Center for the Arts\, a box of Chocolate-Dipped Strawberries from Sweet & Savory Kitchen and a box of Truffles from Sweet & Savory Kitchen. Winner! Winner!\n\nIf you like being "in the know" then this is an event you'll want to go. A delicious light breakfast will be served.  Hosted by A Center for the Arts  For just $5 Chamber members ($10 prospective members/general public)\, you will hear brief updates from speakers:\n\n1. Michael Burgraff\, A Center for the Arts (host)\n\n2. Marcia Johnson\, Fergus Falls Habitat for Humanity\n\n3. Darla Jacobson\, Security State Bank/Relay for Life\n\n4. Sue Wilken\, A Place to Belong\n\n5. Miles Riker & McLovin\, 97.7FM\, Leighton Broadcasting\n\n6. Jackie Formo\, Chamber of Commerce\n\n7. Jesse Nelson\, Northwestern Mutual\n\n8. Lake Region Healthcare -- Corporate Cup & Community Wellness Challenge\n\n9. Sara Hage\, PioneerCare/PioneerLink\n\n10. Grant Davenport\, Young Professional Networking (YPN)\n\n11. Tim Ehli\, LB Homes\n\n12. Jan Werkau\, Sweet & Savory Kitchen\n\n13. Becky Weers\, The Welcome House\n\n14.  Amy Baldwin\, E.I.C.\n\n15. Tom Rufer\, Noon Kiwanis
X-ALT-DESC;FMTTYPE=text/html:<p><span style="font-family: verdana\;"><span style="font-size: 12px\;"><span style="color: rgb(0\, 0\, 0)\;">&quot\;Chamber Cafe&quot\; is a bi-monthly casual gathering where you will find out what&#39\;s going on &quot\;behind the scenes&quot\;&nbsp\;in the community.&nbsp\; Enjoy a light breakfast\, coffee &amp\; networking. <strong>Breakfast catered by Sweet &amp\; Savory Kitchen: </strong></span></span></span><span style="font-family: calibri\,sans-serif\;"><span style="font-size: 11pt\;"><span style="color: rgb(0\, 0\, 0)\;"><strong>breakfast sandwiches on homemade buttermilk biscuits (egg\, cheese and either Canadian bacon or our own blend of breakfast sausage)\, along with a mixed fruit salad and juices - and coffee!</strong></span>&nbsp\;</span></span><span style="font-family: verdana\;"><span style="font-size: 12px\;"><span style="color: rgb(0\, 0\, 0)\;">At</span></span></span><span style="font-family: verdana\;"><span style="font-size: 12px\;"><span style="color: rgb(0\, 0\, 0)\;"> the end\, one business card will be drawn for &quot\;Half the Cash&quot\; (must be present to win\, must bring a business card -- it is a Chamber event after all).&nbsp\;Plus\, we&#39\;ll be giving away: A pair of tickets to the &quot\;Harmonious Wall&quot\; concert on January 20 at A Center for the Arts\, a box of Chocolate-Dipped Strawberries from Sweet &amp\; Savory Kitchen and a box of Truffles from Sweet &amp\; Savory Kitchen. Winner! Winner!</span></span></span></p>\n\n<p><span style="font-family: verdana\;"><span style="font-size: 12px\;"><span style="color: rgb(0\, 0\, 0)\;">If you like being &quot\;in the know&quot\; then this is an event you&#39\;ll want to go. A delicious light breakfast will be served.&nbsp\; <em>Hosted by&nbsp\;A&nbsp\;Center for the Arts &nbsp\;</em>For just $5 Chamber members ($10 prospective members/general public)\, you&nbsp\;will hear brief updates from speakers:<br />\n1. Michael Burgraff\, A Center for the Arts (host)<br />\n2. Marcia Johnson\, Fergus Falls Habitat for Humanity<br />\n3. Darla Jacobson\, Security State Bank/Relay for Life<br />\n4. Sue Wilken\, A Place to Belong<br />\n5. Miles Riker &amp\; McLovin\, 97.7FM\, Leighton Broadcasting<br />\n6. Jackie Formo\, Chamber of Commerce<br />\n7. Jesse Nelson\, Northwestern Mutual<br />\n8. Lake Region&nbsp\;Healthcare -- Corporate Cup &amp\; Community Wellness Challenge<br />\n9. Sara Hage\, PioneerCare/PioneerLink<br />\n10. Grant Davenport\, Young Professional Networking (YPN)<br />\n11. Tim Ehli\, LB Homes<br />\n12. Jan Werkau\, Sweet &amp\; Savory Kitchen<br />\n13. Becky Weers\, The Welcome House</span><br />\n<span style="color: rgb(0\, 0\, 0)\;">14.&nbsp\; Amy Baldwin\, E.I.C.<br />\n15. Tom Rufer\, Noon Kiwanis</span></span></span></p>\n
LOCATION:A Center for the Arts (Fergus Theater) 124 W. Lincoln Ave. Fergus Falls\, MN Downtown - plenty of parking behind building & on street
UID:e.314.24254
SEQUENCE:3
DTSTAMP:20260425T022431Z
URL:https://business.fergusfalls.com/events/details/chamber-cafe-at-a-center-for-the-arts-24254
END:VEVENT

END:VCALENDAR
