BEGIN:VCALENDAR
VERSION:2.0
PRODID:-//ChamberMaster//Event Calendar 2.0//EN
METHOD:PUBLISH
X-PUBLISHED-TTL:P3D
REFRESH-INTERVAL:P3D
CALSCALE:GREGORIAN
BEGIN:VEVENT
DTSTART:20160310T133000Z
DTEND:20160310T150000Z
X-MICROSOFT-CDO-ALLDAYEVENT:FALSE
SUMMARY:Chamber Cafe at Bigwood Event Center
DESCRIPTION:"Chamber Cafe" is a bi-monthly casual gathering where you will find out what's going on "behind the scenes" in the community.  Enjoy refreshments & networking. At the end\, one business card will be drawn for "Half the Cash" -must be present to win. If you like being "in the know" then this is an event you'll want to go. A delicious light breakfast will be served.  Hosted by the Bigwood Event Center.  For just $5 Chamber members ($10 general public)\, you will hear brief updates from speakers.\n\nThe Bigwood's Breakfast Bonanza is a treat for you:\n\n\n	Jumbo Homemade Cinnamon & Caramel Rolls\n	Fresh Fruit Display with a Fruit Carving\n	Delicious Bacon\n	Build Your Own Parfait Station\n	Homemade Quiche\n	Juice\, Coffee\, Water\n\nMarch Guest Speakers include:\n\nTammy Banks\, Bigwood Event Center\n\nTrisha Rutten\, Alzhemier Association MN- ND Chapter\n\nNicki Gaines -  Mimi Rae's & Addy Grace\n\nMissi Isaac - LB Homes\n\nChris Schuelke - OT Co. Historical Society\n\nChaezle Coley- EcoWater Systems of West Central MN & Lakes Area\n\nErin Smith- Fergus Falls Public Library\n\nStaci Severson - Tile Pros\n\nJudy Carpenter - North Country Trail\, Glacial Edge Chapter\n\nKevin Swenson - Pebble Lake Golf Course\n\nMichael Burgraff - Center for the Arts\n\nAnnabelle Lee - American Family\n\nNicole Rydell - SmartSearch Arvig\n\nAdam Formo- Pebble Lake Auto Exhaust Pros\n\nMary Matteson- Community Education/ISD 544\n\nPam Phillips - M State
X-ALT-DESC;FMTTYPE=text/html:<span style="color: rgb(0\, 0\, 0)\;"><span style="font-family: verdana\;"><span style="font-size: 12px\;"><strong>&quot\;Chamber Cafe&quot\; </strong>is a bi-monthly casual gathering where you will find out what&#39\;s going on &quot\;behind the scenes&quot\;&nbsp\;in the community.&nbsp\; Enjoy refreshments &amp\; networking. At the end\, one business card will be drawn for &quot\;Half the Cash&quot\; -must be present to win.&nbsp\;If you like being &quot\;in the know&quot\; then this is an event you&#39\;ll want to go. A delicious light breakfast will be served.&nbsp\; <em>Hosted by&nbsp\;the&nbsp\;Bigwood Event Center.&nbsp\; </em>For just $5 Chamber members ($10 general public)\, you&nbsp\;will hear brief updates from speakers.</span><br />\nThe Bigwood&#39\;s Breakfast Bonanza is a treat for you:</span></span>\n\n<ul>\n	<li><span style="font-size: 11pt\;"><span style="font-family: book antiqua\,serif\;">Jumbo Homemade Cinnamon &amp\; Caramel Rolls</span></span></li>\n	<li><span style="font-size: 11pt\;"><span style="font-family: book antiqua\,serif\;">Fresh Fruit Display with a Fruit Carving</span></span></li>\n	<li><span style="font-size: 11pt\;"><span style="font-family: book antiqua\,serif\;">Delicious Bacon</span></span></li>\n	<li><span style="font-size: 11pt\;"><span style="font-family: book antiqua\,serif\;">Build Your Own Parfait Station</span></span></li>\n	<li><span style="font-size: 11pt\;"><span style="font-family: book antiqua\,serif\;">Homemade Quiche</span></span></li>\n	<li><span style="font-size: 11pt\;"><span style="font-family: book antiqua\,serif\;">Juice\, Coffee\, Water</span></span></li>\n</ul>\n<span style="color: rgb(0\, 0\, 0)\;"><span style="font-family: verdana\;"><u>March Guest Speakers include:</u><br />\nTammy Banks\, Bigwood Event Center<br />\nTrisha Rutten\, Alzhemier Association MN- ND Chapter<br />\nNicki Gaines -&nbsp\; Mimi Rae&#39\;s &amp\; Addy Grace<br />\nMissi Isaac - LB Homes<br />\nChris Schuelke - OT Co. Historical Society<br />\nChaezle Coley- EcoWater Systems of West Central MN &amp\; Lakes Area<br />\nErin Smith- Fergus Falls Public Library<br />\nStaci Severson - Tile Pros<br />\nJudy Carpenter - North Country Trail\, Glacial Edge Chapter<br />\nKevin Swenson - Pebble Lake Golf Course<br />\nMichael Burgraff&nbsp\;-&nbsp\;Center for the Arts<br />\nAnnabelle Lee - American Family<br />\nNicole Rydell - SmartSearch Arvig</span></span><br />\n<font face="Verdana">Adam Formo- Pebble Lake Auto Exhaust Pros</font><br />\n<span style="color: rgb(0\, 0\, 0)\;"><span style="font-family: verdana\;">Mary Matteson- Community Education/ISD 544<br />\nPam Phillips - M State</span></span>
LOCATION:Bigwood Event Center 925 Western Ave. Fergus Falls\, MN
UID:e.314.24249
SEQUENCE:3
DTSTAMP:20260425T201309Z
URL:https://business.fergusfalls.com/events/details/chamber-cafe-at-bigwood-event-center-03-10-2016-24249
END:VEVENT

END:VCALENDAR
