BEGIN:VCALENDAR
VERSION:2.0
PRODID:-//ChamberMaster//Event Calendar 2.0//EN
METHOD:PUBLISH
X-PUBLISHED-TTL:P3D
REFRESH-INTERVAL:P3D
CALSCALE:GREGORIAN
BEGIN:VEVENT
DTSTART:20171109T133000Z
DTEND:20171109T150000Z
X-MICROSOFT-CDO-ALLDAYEVENT:FALSE
SUMMARY:Chamber Cafe at Olson Funeral Home
DESCRIPTION:"Chamber Cafe" is a bi-monthly casual gathering where you will find out what's going on "behind the scenes" in the community.  Enjoy refreshments & networking. At the end\, one business card will be drawn for "Half the Cash" -must be present to win. If you like being "in the know" then this is an event you'll want to go. A delicious breakfast (Biscuits & Gravy\, Fruit Cups\, Juice\, Coffee) from the Viking Cafe will be served.  Hosted by Olson Funeral Home. For just $5 Chamber members ($10 general public)\, you will hear brief updates from speakers.\n\n	Olson Funeral Home\n	Megan Shubitz\, American National Bank of MN\n	Dave Cornell\, Cultivate Courage \n	Simon Erlandson\, Tysdal Chiropratic \n	Josh Boyer\, Real Property Management Optimimum - New member\n	Jan Werkau\, Coastal Creative \n	Steve Erikkson\, Fergus Falls Downtown Riverfront Council \n	Tim Ehli\, LB Homes \n	Lynn Brand\, Fergus Farmers Market\n	Mary Sieling\, Zach Stich\, The Daily Journal \n	Jean Bowman/Amy Baldwin - Customer Service Training\n	Michael Burgraff - A Center for the Arts\n	Chad Landman - New Beginnings- CrossFit 1919
X-ALT-DESC;FMTTYPE=text/html:<span style="color: rgb(0\, 0\, 0)\;"><span style="font-size: 12px\;"><strong>&quot\;Chamber Cafe&quot\; </strong>is a bi-monthly casual gathering where you will find out what&#39\;s going on &quot\;behind the scenes&quot\;&nbsp\;in the community.&nbsp\; Enjoy refreshments &amp\; networking. At the end\, one business card will be drawn for &quot\;Half the Cash&quot\; -must be present to win.&nbsp\;If you like being &quot\;in the know&quot\; then this is an event you&#39\;ll want to go. A delicious breakfast (Biscuits &amp\; Gravy\, Fruit Cups\, Juice\, Coffee) from <em>the Viking Cafe </em>will be served.&nbsp\; <em>Hosted by Olson Funeral Home.&nbsp\;</em>For just $5 Chamber members ($10 general public)\, you&nbsp\;will hear brief updates from speakers.</span></span>\n<ul>\n	<li><span style="color: rgb(0\, 0\, 0)\;"><span style="font-size: 11px\;">Olson Funeral Home</span></span></li>\n	<li><span style="color: rgb(0\, 0\, 0)\;"><span style="font-size: 11px\;">Megan Shubitz\, American National Bank of MN</span></span></li>\n	<li><span style="color: rgb(0\, 0\, 0)\;"><span style="font-size: 11px\;">Dave Cornell\, Cultivate Courage </span></span></li>\n	<li><span style="color: rgb(0\, 0\, 0)\;"><span style="font-size: 11px\;">Simon Erlandson\, Tysdal Chiropratic </span></span></li>\n	<li><span style="color: rgb(0\, 0\, 0)\;"><span style="font-size: 11px\;">Josh Boyer\, Real Property Management Optimimum - New member</span></span></li>\n	<li><span style="color: rgb(0\, 0\, 0)\;"><span style="font-size: 11px\;">Jan Werkau\, Coastal Creative </span></span></li>\n	<li><span style="color: rgb(0\, 0\, 0)\;"><span style="font-size: 11px\;">Steve Erikkson\, Fergus Falls Downtown Riverfront Council </span></span></li>\n	<li><span style="color: rgb(0\, 0\, 0)\;"><span style="font-size: 11px\;">Tim Ehli\, LB Homes </span></span></li>\n	<li><span style="color: rgb(0\, 0\, 0)\;"><span style="font-size: 11px\;">Lynn Brand\, Fergus Farmers Market</span></span></li>\n	<li><span style="color: rgb(0\, 0\, 0)\;"><span style="font-size: 11px\;">Mary Sieling\, Zach Stich\, The Daily Journal </span></span></li>\n	<li><span style="color: rgb(0\, 0\, 0)\;"><span style="font-size: 11px\;">Jean Bowman/Amy Baldwin - Customer Service Training</span></span></li>\n	<li><span style="color: rgb(0\, 0\, 0)\;"><span style="font-size: 11px\;">Michael Burgraff - A Center for the Arts</span></span></li>\n	<li><span style="color: rgb(0\, 0\, 0)\;"><span style="font-size: 11px\;">Chad Landman - New Beginnings- CrossFit 1919</span></span></li>\n</ul>\n
LOCATION:Olson Funeral Home & Cremation Services Reception Center 711 Pebble Lake Road Fergus Falls\, MN 56537
UID:e.314.24259
SEQUENCE:3
DTSTAMP:20260424T092113Z
URL:https://business.fergusfalls.com/events/details/chamber-cafe-at-olson-funeral-home-11-09-2017-24259
END:VEVENT

END:VCALENDAR
