BEGIN:VCALENDAR
VERSION:2.0
PRODID:-//ChamberMaster//Event Calendar 2.0//EN
METHOD:PUBLISH
X-PUBLISHED-TTL:P3D
REFRESH-INTERVAL:P3D
CALSCALE:GREGORIAN
BEGIN:VEVENT
DTSTART:20170309T133000Z
DTEND:20170309T150000Z
X-MICROSOFT-CDO-ALLDAYEVENT:FALSE
SUMMARY:Chamber Cafe at The Daily Journal
DESCRIPTION:"Chamber Cafe" is a bi-monthly casual gathering where you will find out what's going on "behind the scenes" in the community.  Enjoy refreshments & networking. At the end\, one business card will be drawn for "Half the Cash" -must be present to win. If you like being "in the know" then this is an event you'll want to go. A delicious light breakfast will be served including French Toast\, Sausage\, Orange Juice & Coffee.  Hosted by Daily Journal Media (Plenty of parking in back). \n\n For just $5 Chamber members ($10 general public)\, you will hear brief updates from speakers:\n\n\n	Host\, Mitzi Moe & Mary Sieling\, Daily Journal Media\n	Kris Wilke\, Walk MS\n	Megan Shubitz\, American National Bank\, Kiwanis\, YPN\, MS TRAM...\n	Dave Johnson\, ORB Property Management\n	Roger Higbee\, Premier Outdoor Concepts\n	Samantha VanWechel-Meyer\, YMCA\n	Grant Davenport\, Farm Bureau Financial Services\n	ServPro of Otter Tail & Douglas Counties\, Trevor Rossum \n	Tanya Stoll\, Freedom Resource Center\n	Sheri Meis\, Aflac\n	Nicki Gale-Youngberg\, Olson Funeral Home\n	Staci Severson\, Pro Floor & Tile\n	Russ Rapp\, LB Homes\n	Pastor Doug Dent\, Federated Church\n	Rob Rogholt\, Summerfest
X-ALT-DESC;FMTTYPE=text/html:<p><span style="color:#000000\;"><span style="font-size: 12px\;"><strong>&quot\;Chamber Cafe&quot\; </strong>is a bi-monthly casual gathering where you will find out what&#39\;s going on &quot\;behind the scenes&quot\;&nbsp\;in the community.&nbsp\; Enjoy refreshments &amp\; networking. At the end\, one business card will be drawn for &quot\;Half the Cash&quot\; -must be present to win.&nbsp\;If you like being &quot\;in the know&quot\; then this is an event you&#39\;ll want to go. A delicious light breakfast will be served including <strong>French Toast\, Sausage\, Orange Juice &amp\; Coffee</strong>.&nbsp\; <em>Hosted by Daily Journal Media (Plenty of parking in back). </em></span></span></p>\n\n<p><span style="color:#000000\;"><span style="font-size: 12px\;"><em>&nbsp\;</em>For just $5 Chamber members ($10 general public)\, you&nbsp\;will hear brief updates from speakers:</span></span></p>\n\n<ol>\n	<li><span style="color:#000000\;">Host\, Mitzi Moe &amp\; Mary Sieling\, Daily Journal Media</span></li>\n	<li><span style="color: rgb(0\, 0\, 0)\;">Kris&nbsp\;Wilke\, Walk MS</span></li>\n	<li><span style="color:#000000\;">Megan Shubitz\, American National Bank\, Kiwanis\, YPN\, MS TRAM...</span></li>\n	<li><span style="color:#000000\;">Dave Johnson\, ORB Property Management</span></li>\n	<li><span style="color:#000000\;">Roger Higbee\, Premier Outdoor Concepts</span></li>\n	<li><span style="color:#000000\;">Samantha VanWechel-Meyer\, YMCA</span></li>\n	<li><span style="color:#000000\;">Grant Davenport\, Farm Bureau Financial Services</span></li>\n	<li><span style="color:#000000\;">ServPro&nbsp\;of Otter Tail &amp\; Douglas Counties\, Trevor Rossum&nbsp\;</span></li>\n	<li><span style="color:#000000\;">Tanya Stoll\, Freedom Resource Center</span></li>\n	<li><span style="color:#000000\;">Sheri Meis\, Aflac</span></li>\n	<li><span style="color:#000000\;">Nicki Gale-Youngberg\, Olson Funeral Home</span></li>\n	<li><span style="color:#000000\;">Staci Severson\, Pro Floor &amp\; Tile</span></li>\n	<li><span style="color:#000000\;">Russ Rapp\, LB Homes</span></li>\n	<li><span style="color:#000000\;">Pastor Doug Dent\, Federated Church</span></li>\n	<li><span style="color:#000000\;">Rob Rogholt\, Summerfest</span></li>\n</ol>\n
LOCATION:The Daily Journal 914 E. Channing Ave. Fergus Falls\, MN 56537 Plenty of parking in back.
UID:e.314.24255
SEQUENCE:3
DTSTAMP:20260424T211321Z
URL:https://business.fergusfalls.com/events/details/chamber-cafe-at-the-daily-journal-03-09-2017-24255
END:VEVENT

END:VCALENDAR
