BEGIN:VCALENDAR
VERSION:2.0
PRODID:-//ChamberMaster//Event Calendar 2.0//EN
METHOD:PUBLISH
X-PUBLISHED-TTL:P3D
REFRESH-INTERVAL:P3D
CALSCALE:GREGORIAN
BEGIN:VEVENT
DTSTART:20180510T123000Z
DTEND:20180510T140000Z
X-MICROSOFT-CDO-ALLDAYEVENT:FALSE
SUMMARY:Chamber Cafe at The Daily Journal
DESCRIPTION:"Chamber Cafe" is a bi-monthly casual gathering where you will find out what's going on "behind the scenes" in the community.  Enjoy caramel rolls\, cinnamon rolls\, fresh fruit\, juice\, coffee & networking. At the end\, one business card will be drawn for "Half the Cash" (must be present to win). If you like being "in the know" then this is an event you'll want to go. Hosted by The Daily Journal and the Fergus Falls Area Chamber of Commerce.  For just $5 Chamber members ($10 general public)\, you will hear brief updates from speakers.\n\n	The Daily Journal\n	Fergus Falls High School students - Preview of "Leading Ladies" performance\n	Sheri Holm or Rick Schara\, Live Wide Open\n	Lonnie Ballweg\, Fergus Wash 'n Go\n	Amy Baldwin\, Forward Fergus Falls\n	Sean Sullivan\, Gate City Bank\n	Kiwanis\, Connie Knapp\n\n Get Ready for Summer Events:\n\n\n	Darla Jacobson\, Relay for Life\n	Summerfest\, Katherine Robbins\n	 Michael Burgraff\, A Center for the Arts\n	Samantha Van Wechel \, YMCA\n	Karoline Gustafson\, Lake Region Run\n	Chris Schuelke\, OT Co. Historical Society\n	Pedal FF\n	Jean Bowman\, Visit Fergus Falls\n	Karen Terry\, Aqua-Chataqua\n	Scott Rachels\, Elks
X-ALT-DESC;FMTTYPE=text/html:<span style="color: rgb(0\, 0\, 0)\;"><span style="font-size: 12px\;"><strong>&quot\;Chamber Cafe&quot\; </strong>is a bi-monthly casual gathering where you will find out what&#39\;s going on &quot\;behind the scenes&quot\;&nbsp\;in the community.&nbsp\; Enjoy caramel rolls\, cinnamon rolls\, fresh fruit\, juice\, coffee &amp\; networking. At the end\, one business card will be drawn for &quot\;Half the Cash&quot\; (must be present to win).&nbsp\;If you like being &quot\;in the know&quot\; then this is an event you&#39\;ll want to go.&nbsp\;<em>Hosted by The Daily Journal and the Fergus Falls Area Chamber of Commerce.&nbsp\; </em>For just $5 Chamber members ($10 general public)\, you&nbsp\;will hear brief updates from speakers.</span></span>\n<ul>\n	<li><span style="color: rgb(0\, 0\, 0)\;"><span style="font-size: 12px\;">The Daily Journal</span></span></li>\n	<li><span style="color: rgb(0\, 0\, 0)\;"><span style="font-size: 12px\;">Fergus Falls High School students - Preview of &quot\;Leading Ladies&quot\; performance</span></span></li>\n	<li><span style="color: rgb(0\, 0\, 0)\;"><span style="font-size: 12px\;">Sheri Holm or Rick Schara\, Live Wide Open</span></span></li>\n	<li><span style="color: rgb(0\, 0\, 0)\;"><span style="font-size: 12px\;">Lonnie Ballweg\, Fergus Wash &#39\;n Go</span></span></li>\n	<li><span style="color: rgb(0\, 0\, 0)\;"><span style="font-size: 12px\;">Amy Baldwin\, Forward Fergus Falls</span></span></li>\n	<li><span style="color: rgb(0\, 0\, 0)\;"><span style="font-size: 12px\;">Sean Sullivan\, Gate City Bank</span></span></li>\n	<li><span style="color: rgb(0\, 0\, 0)\;"><span style="font-size: 12px\;">Kiwanis\, Connie Knapp</span></span></li>\n</ul>\n<span style="color: rgb(0\, 0\, 0)\;"> <span style="font-size: 12px\;">Get Ready for Summer Events:</span></span>\n\n<ul>\n	<li><span style="color: rgb(0\, 0\, 0)\;"><span style="font-size: 12px\;">Darla Jacobson\, Relay for Life</span></span></li>\n	<li><span style="color: rgb(0\, 0\, 0)\;"><span style="font-size: 12px\;">Summerfest\, Katherine Robbins</span></span></li>\n	<li><span style="color: rgb(0\, 0\, 0)\;"><span style="font-size: 12px\;">&#8203\;Michael Burgraff\, A Center for the Arts</span></span></li>\n	<li><span style="color: rgb(0\, 0\, 0)\;"><span style="font-size: 12px\;">Samantha Van Wechel&nbsp\;\, YMCA</span></span></li>\n	<li><span style="color: rgb(0\, 0\, 0)\;"><span style="font-size: 12px\;">Karoline Gustafson\, Lake Region Run</span></span></li>\n	<li><span style="color: rgb(0\, 0\, 0)\;"><span style="font-size: 12px\;">Chris Schuelke\, OT Co. Historical Society</span></span></li>\n	<li><span style="color: rgb(0\, 0\, 0)\;"><span style="font-size: 12px\;">Pedal FF</span></span></li>\n	<li><span style="color: rgb(0\, 0\, 0)\;"><span style="font-size: 12px\;">Jean Bowman\,&nbsp\;</span>Visit Fergus Falls</span></li>\n	<li><span style="color: rgb(0\, 0\, 0)\;"><span style="font-size: 12px\;">Karen Terry\, Aqua-Chataqua</span></span></li>\n	<li><span style="color: rgb(0\, 0\, 0)\;"><span style="font-size: 12px\;">Scott Rachels\, Elks </span></span></li>\n</ul>\n
LOCATION:The Daily Journal 914 E. Channing Ave. Fergus Falls\, MN
UID:e.314.24262
SEQUENCE:3
DTSTAMP:20260423T235607Z
URL:https://business.fergusfalls.com/events/details/chamber-cafe-at-the-daily-journal-24262
END:VEVENT

END:VCALENDAR
