BEGIN:VCALENDAR
VERSION:2.0
PRODID:-//ChamberMaster//Event Calendar 2.0//EN
METHOD:PUBLISH
X-PUBLISHED-TTL:P3D
REFRESH-INTERVAL:P3D
CALSCALE:GREGORIAN
BEGIN:VEVENT
DTSTART:20160114T133000Z
DTEND:20160114T150000Z
X-MICROSOFT-CDO-ALLDAYEVENT:FALSE
SUMMARY:Chamber Cafe at Village Cooperative co-hosted by American National Bank of MN
DESCRIPTION:"Chamber Cafe" is a bi-monthly casual gathering where you will find out what's going on "behind the scenes" in the community.  Enjoy a light breakfast & networking. At the end\, one person's name will be drawn for "Half the Cash" -must be present to win. If you like being "in the know" then this is an event you'll want to go. January Chamber Cafe hosted by American National Bank of MN and the Village Cooperative. \n\nOur speakers for January 2016 include:\n\nVillage Cooperative\n\nAmerican National Bank of MN\n\nKim Anderson-Moen\, Someplace Safe\n\nDr. Carrie Brimhall "Girlz Rock"\n\nDarla Jacobson\, Relay for Life\n\nHannah Sterzinger\, Knute Nelson Home Care & Hospice\n\nMary Phillipe\, United Way of OTC\n\nSteve Swanson\, Sertoma Ice Fishing Derby\n\nBridget Leonard\,  Kindred Family Focus - new member\n\nMelissa Schoon\, 9Round - new member\n\nNatalie Knutson\, Lake Region Healthcare Corporate Cup\n\nLuke Loeffler\, Northern Aire Lanes - Chamber Battle of the Businesses Bowling Tournament\n\nMary Matteson\, Community Education\n\nJulie Gray\, Summerfest\n\nChris Scheulke\, Otter Tail Co. Historical Society "Go Team!" new exhibit\n\nDoug Gray\, Leighton Broadcasting - Build CON 2016\n\nTammy Banks\, Bigwood & Event Center
X-ALT-DESC;FMTTYPE=text/html:<span style="color: rgb(0\, 0\, 0)\;"><span style="font-size: 12px\;"><span style="font-family: verdana\;">&quot\;Chamber Cafe&quot\; is a bi-monthly casual gathering where you will find out what&#39\;s going on &quot\;behind the scenes&quot\;&nbsp\;in the community.&nbsp\; Enjoy a light breakfast &amp\; networking. At the end\, one person&#39\;s name will be drawn for &quot\;Half the Cash&quot\; -must be present to win.&nbsp\;If you like being &quot\;in the know&quot\; then this is an event you&#39\;ll want to go. January Chamber Cafe hosted by American National Bank of MN and the Village Cooperative.&nbsp\;<br />\nOur speakers for January 2016 include:<br />\nVillage Cooperative<br />\nAmerican National Bank of MN<br />\nKim Anderson-Moen\, Someplace Safe<br />\nDr. Carrie Brimhall &quot\;Girlz Rock&quot\;<br />\nDarla Jacobson\, Relay for Life<br />\nHannah Sterzinger\,&nbsp\;Knute Nelson Home Care &amp\; Hospice<br />\nMary Phillipe\, United Way of OTC<br />\nSteve Swanson\, Sertoma Ice Fishing Derby<br />\nBridget Leonard\,&nbsp\; Kindred Family Focus - new member<br />\nMelissa Schoon\, 9Round - new member<br />\nNatalie Knutson\, Lake Region Healthcare Corporate Cup<br />\nLuke Loeffler\, Northern Aire Lanes - Chamber Battle of the Businesses Bowling Tournament<br />\nMary Matteson\, Community Education<br />\nJulie Gray\, Summerfest<br />\nChris Scheulke\, Otter Tail Co. Historical Society &quot\;Go Team!&quot\; new exhibit<br />\nDoug Gray\, Leighton Broadcasting - Build CON 2016<br />\nTammy Banks\, Bigwood&nbsp\;&amp\; Event Center&nbsp\;&nbsp\;</span></span></span><br />\n&nbsp\;
LOCATION:Village Cooperative 1124 Village Circle Fergus Falls\, MN (behind Target). Take Western Ave.(Hardees/Maurices) to Pioneer Drive to Village Circle - watch for sign (turn before West Central Initiative) (Google Maps is incorrect).
UID:e.314.24248
SEQUENCE:3
DTSTAMP:20260425T215835Z
URL:https://business.fergusfalls.com/events/details/chamber-cafe-at-village-cooperative-co-hosted-by-american-national-bank-of-mn-01-14-2016-24248
END:VEVENT

END:VCALENDAR
